BEGIN:VCALENDAR
VERSION:2.0
PRODID:-//UNIVERSITY OF TEXAS SCHOOL OF LAW//NONSGML Events Calendar v1.0//EN
X-WR-TIMEZONE:America/Chicago
BEGIN:VTIMEZONE
TZID:US/Central
X-LIC-LOCATION:America/Chicago
BEGIN:DAYLIGHT
TZOFFSETFROM:-0600
TZOFFSETTO:-0500
TZNAME:CDT
DTSTART:19700308T020000
RRULE:FREQ=YEARLY;BYMONTH=3;BYDAY=2SU
END:DAYLIGHT
BEGIN:STANDARD
TZOFFSETFROM:-0500
TZOFFSETTO:-0600
TZNAME:CST
DTSTART:19701101T020000
RRULE:FREQ=YEARLY;BYMONTH=11;BYDAY=1SU
END:STANDARD
END:VTIMEZONE
BEGIN:VEVENT
DTSTART;TZID=US/Central:20160831T120000
DTEND;VALUE=DATE-TIME;TZID=US/Central:20160831T130000

DTSTAMP:20260419T122200Z
CREATED:20160815T183800Z
LAST-MODIFIED:20160829T165300Z
UID:20160831T120000-23684@law.utexas.edu
SUMMARY:U.S. DOJ Summer &amp; Honors Program Info
DESCRIPTION:<p>Learn more about the opportunities available through the Honors Program for entry-level attorneys, the Summer Law Intern Program and volunteer legal internships for law students at the U.S. Department of Justice (DOJ) from Leah McCoy and Ashley Eickhof, who are attorneys in the DOJ's Antitrust Division.</p>
  <p>Lunch will be served. RSVP by Tuesday, August 30, on <a href="https://law-utexas-csm.symplicity.com/students/">Symplicity</a> by selecting the “Events” tab.  1Ls and LL.M.s may RSVP to SooYeon Kim at <a href="mailto:skim@law.utexas.edu">skim@law.utexas.edu</a>.</p>
  <p>Ms. McCoy and Ms. Eickhof will also be available from 10:30-11:45 a.m. for 15-minute one-on-one meetings with students in the Career Services Interview Suite (TNH 3.122). To sign up for an individual meeting, please stop by the CSO in TNH 3.130. Space is limited.</p>\n\nIf you need an accommodation to participate in this event, please contact the event sponsor or the Texas Law Special Events Office at specialevents@law.utexas.edu no later than seven business days prior to the event.
X-ALT-DESC;FMTTYPE=text/html:<p>Learn more about the opportunities available through the Honors Program for entry-level attorneys, the Summer Law Intern Program and volunteer legal internships for law students at the U.S. Department of Justice (DOJ) from Leah McCoy and Ashley Eickhof, who are attorneys in the DOJ's Antitrust Division.</p>
  <p>Lunch will be served. RSVP by Tuesday, August 30, on <a href="https://law-utexas-csm.symplicity.com/students/">Symplicity</a> by selecting the “Events” tab.  1Ls and LL.M.s may RSVP to SooYeon Kim at <a href="mailto:skim@law.utexas.edu">skim@law.utexas.edu</a>.</p>
  <p>Ms. McCoy and Ms. Eickhof will also be available from 10:30-11:45 a.m. for 15-minute one-on-one meetings with students in the Career Services Interview Suite (TNH 3.122). To sign up for an individual meeting, please stop by the CSO in TNH 3.130. Space is limited.</p><p>If you need an accommodation to participate in this event, please contact the event
                                          event sponsor or the Texas Law Special Events Office at <a href="mailto:specialevents@law.utexas.edu">specialevents@law.utexas.edu</a> no later than seven business days prior to the event.</p>
CATEGORIES:Workshop / Training Program
LOCATION:CCJ 2.306 - Eidman Courtroom
URL:http://law.utexas.edu/calendar/2016/08/31/23684/
CLASS:PUBLIC
STATUS:CONFIRMED
COMMENT:Please contact Denyse Demel, Government Career Counselor, at 512-232-1162 or <a href="mailto:ddemel@law.utexas.edu">ddemel@law.utexas.edu</a>.
END:VEVENT
END:VCALENDAR