BEGIN:VCALENDAR
VERSION:2.0
PRODID:-//UNIVERSITY OF TEXAS SCHOOL OF LAW//NONSGML Events Calendar v1.0//EN
X-WR-TIMEZONE:America/Chicago
BEGIN:VTIMEZONE
TZID:US/Central
X-LIC-LOCATION:America/Chicago
BEGIN:DAYLIGHT
TZOFFSETFROM:-0600
TZOFFSETTO:-0500
TZNAME:CDT
DTSTART:19700308T020000
RRULE:FREQ=YEARLY;BYMONTH=3;BYDAY=2SU
END:DAYLIGHT
BEGIN:STANDARD
TZOFFSETFROM:-0500
TZOFFSETTO:-0600
TZNAME:CST
DTSTART:19701101T020000
RRULE:FREQ=YEARLY;BYMONTH=11;BYDAY=1SU
END:STANDARD
END:VTIMEZONE
BEGIN:VEVENT
DTSTART;TZID=US/Central:20160901T114500
DTEND;VALUE=DATE-TIME;TZID=US/Central:20160901T124500

DTSTAMP:20260419T221800Z
CREATED:20160808T162000Z
LAST-MODIFIED:20160826T144700Z
UID:20160901T114500-23544@law.utexas.edu
SUMMARY:FDIC Information Session
DESCRIPTION:<p>Learn more about the Honors Program for entry-level attorneys, the summer intern program, as well as fall and spring internship opportunities at the Federal Deposit Insurance Corporation (FDIC) from Arleas Kea, '82, Director of Administration, and Andrea Fulton Toliver, Regional Counsel for the Atlanta Region.</p>
  <p>Lunch will be served. RSVP by Wednesday, August 31, on <a href="https://law-utexas-csm.symplicity.com/students/">Symplicity</a> by selecting the “Events” tab.  1Ls and LL.M.s may RSVP to SooYeon Kim at <a href="mailto:skim@law.utexas.edu">skim@law.utexas.edu</a>.</p>
  <p>Ms. Kea and Ms. Toliver will be available from 8:30-11:30 a.m. for one-on-one meetings with students interested in opportunities with the FDIC. The meetings will be held in the Career Services Interview Suite (TNH 3.122).  To sign up for an individual meeting, please stop by the CSO in TNH 3.130. Space is limited.</p>\n\nIf you need an accommodation to participate in this event, please contact the event sponsor or the Texas Law Special Events Office at specialevents@law.utexas.edu no later than seven business days prior to the event.
X-ALT-DESC;FMTTYPE=text/html:<p>Learn more about the Honors Program for entry-level attorneys, the summer intern program, as well as fall and spring internship opportunities at the Federal Deposit Insurance Corporation (FDIC) from Arleas Kea, '82, Director of Administration, and Andrea Fulton Toliver, Regional Counsel for the Atlanta Region.</p>
  <p>Lunch will be served. RSVP by Wednesday, August 31, on <a href="https://law-utexas-csm.symplicity.com/students/">Symplicity</a> by selecting the “Events” tab.  1Ls and LL.M.s may RSVP to SooYeon Kim at <a href="mailto:skim@law.utexas.edu">skim@law.utexas.edu</a>.</p>
  <p>Ms. Kea and Ms. Toliver will be available from 8:30-11:30 a.m. for one-on-one meetings with students interested in opportunities with the FDIC. The meetings will be held in the Career Services Interview Suite (TNH 3.122).  To sign up for an individual meeting, please stop by the CSO in TNH 3.130. Space is limited.</p><p>If you need an accommodation to participate in this event, please contact the event
                                          event sponsor or the Texas Law Special Events Office at <a href="mailto:specialevents@law.utexas.edu">specialevents@law.utexas.edu</a> no later than seven business days prior to the event.</p>
CATEGORIES:Workshop / Training Program
LOCATION:TNH 3.126 - Ratliff Classroom
URL:http://law.utexas.edu/calendar/2016/09/01/23544/
CLASS:PUBLIC
STATUS:CONFIRMED
COMMENT:Please contact Denyse Demel, Government Career Counselor, at 512-232-1162 or <a href="mailto:ddemel@law.utexas.edu">ddemel@law.utexas.edu</a>.
END:VEVENT
END:VCALENDAR