BEGIN:VCALENDAR
VERSION:2.0
PRODID:-//UNIVERSITY OF TEXAS SCHOOL OF LAW//NONSGML Events Calendar v1.0//EN
X-WR-TIMEZONE:America/Chicago
BEGIN:VTIMEZONE
TZID:US/Central
X-LIC-LOCATION:America/Chicago
BEGIN:DAYLIGHT
TZOFFSETFROM:-0600
TZOFFSETTO:-0500
TZNAME:CDT
DTSTART:19700308T020000
RRULE:FREQ=YEARLY;BYMONTH=3;BYDAY=2SU
END:DAYLIGHT
BEGIN:STANDARD
TZOFFSETFROM:-0500
TZOFFSETTO:-0600
TZNAME:CST
DTSTART:19701101T020000
RRULE:FREQ=YEARLY;BYMONTH=11;BYDAY=1SU
END:STANDARD
END:VTIMEZONE
BEGIN:VEVENT
DTSTART;TZID=US/Central:20160902T180000
DTEND;VALUE=DATE-TIME;TZID=US/Central:20160902T210000

DTSTAMP:20260419T210600Z
CREATED:20160518T151500Z
LAST-MODIFIED:20160531T200700Z
UID:20160902T180000-22190@law.utexas.edu
SUMMARY:Alumni Awards Dinner
DESCRIPTION:<p>Four Seasons Ballroom, Four Seasons Hotel, 98 San Jacinto Blvd., Austin, TX</p>
  <p>Friday, September 2, 2016, 6:00 p.m.</p>\n\nIf you need an accommodation to participate in this event, please contact the event sponsor or the Texas Law Special Events Office at specialevents@law.utexas.edu no later than seven business days prior to the event.
X-ALT-DESC;FMTTYPE=text/html:<p>Four Seasons Ballroom, Four Seasons Hotel, 98 San Jacinto Blvd., Austin, TX</p>
  <p>Friday, September 2, 2016, 6:00 p.m.</p><p>If you need an accommodation to participate in this event, please contact the event
                                          event sponsor or the Texas Law Special Events Office at <a href="mailto:specialevents@law.utexas.edu">specialevents@law.utexas.edu</a> no later than seven business days prior to the event.</p>
CATEGORIES:Dinner

URL:http://law.utexas.edu/calendar/2016/09/02/22190/
CLASS:PUBLIC
STATUS:CONFIRMED
COMMENT:Please contact Lauren Thompson in the Alumni Office at lthompson@law.utexas.edu or 512-232-1533
END:VEVENT
END:VCALENDAR