BEGIN:VCALENDAR
VERSION:2.0
PRODID:-//UNIVERSITY OF TEXAS SCHOOL OF LAW//NONSGML Events Calendar v1.0//EN
X-WR-TIMEZONE:America/Chicago
BEGIN:VTIMEZONE
TZID:US/Central
X-LIC-LOCATION:America/Chicago
BEGIN:DAYLIGHT
TZOFFSETFROM:-0600
TZOFFSETTO:-0500
TZNAME:CDT
DTSTART:19700308T020000
RRULE:FREQ=YEARLY;BYMONTH=3;BYDAY=2SU
END:DAYLIGHT
BEGIN:STANDARD
TZOFFSETFROM:-0500
TZOFFSETTO:-0600
TZNAME:CST
DTSTART:19701101T020000
RRULE:FREQ=YEARLY;BYMONTH=11;BYDAY=1SU
END:STANDARD
END:VTIMEZONE
BEGIN:VEVENT
DTSTART;TZID=US/Central:20160913T120000
DTEND;VALUE=DATE-TIME;TZID=US/Central:20160913T130000

DTSTAMP:20260419T181100Z
CREATED:20160712T163500Z
LAST-MODIFIED:20160713T142400Z
UID:20160913T120000-22864@law.utexas.edu
SUMMARY:What can the Board of Advocates do for y
DESCRIPTION:<p>Think the only thing worth learning in law school is how to proof read a contract or write a memo for a partner? Come learn about the benefits of an education in advocacy and experience in intramural competitions through the Board of Advocates. We will have former and current Board of Advocates officers and members speaking to students about how their experiences helped them in their careers, helped them get jobs, and helped make them better lawyers. Lunch will be served. Be Bold. Be an Advocate.</p>\n\nIf you need an accommodation to participate in this event, please contact the event sponsor or the Texas Law Special Events Office at specialevents@law.utexas.edu no later than seven business days prior to the event.
X-ALT-DESC;FMTTYPE=text/html:<p>Think the only thing worth learning in law school is how to proof read a contract or write a memo for a partner? Come learn about the benefits of an education in advocacy and experience in intramural competitions through the Board of Advocates. We will have former and current Board of Advocates officers and members speaking to students about how their experiences helped them in their careers, helped them get jobs, and helped make them better lawyers. Lunch will be served. Be Bold. Be an Advocate.</p><p>If you need an accommodation to participate in this event, please contact the event
                                          event sponsor or the Texas Law Special Events Office at <a href="mailto:specialevents@law.utexas.edu">specialevents@law.utexas.edu</a> no later than seven business days prior to the event.</p>
CATEGORIES:Panel Discussion / Speaker Series
LOCATION:TNH 2.140 - Wright Classroom
URL:http://law.utexas.edu/calendar/2016/09/13/22864/
CLASS:PUBLIC
STATUS:CONFIRMED

END:VEVENT
END:VCALENDAR