BEGIN:VCALENDAR
VERSION:2.0
PRODID:-//UNIVERSITY OF TEXAS SCHOOL OF LAW//NONSGML Events Calendar v1.0//EN
X-WR-TIMEZONE:America/Chicago
BEGIN:VTIMEZONE
TZID:US/Central
X-LIC-LOCATION:America/Chicago
BEGIN:DAYLIGHT
TZOFFSETFROM:-0600
TZOFFSETTO:-0500
TZNAME:CDT
DTSTART:19700308T020000
RRULE:FREQ=YEARLY;BYMONTH=3;BYDAY=2SU
END:DAYLIGHT
BEGIN:STANDARD
TZOFFSETFROM:-0500
TZOFFSETTO:-0600
TZNAME:CST
DTSTART:19701101T020000
RRULE:FREQ=YEARLY;BYMONTH=11;BYDAY=1SU
END:STANDARD
END:VTIMEZONE
BEGIN:VEVENT
DTSTART;TZID=US/Central:20160913T114500
DTEND;VALUE=DATE-TIME;TZID=US/Central:20160913T130000

DTSTAMP:20260419T151900Z
CREATED:20160906T162000Z
LAST-MODIFIED:20160906T162000Z
UID:20160913T114500-24704@law.utexas.edu
SUMMARY:Reproductive Justice 101
DESCRIPTION:<p>Join Texas Law's chapter of If/When/How for a presentation on the history of reproductive health, rights, and justice in the United States. Reproductive justice will exist when all people can exercise the rights and access the resources they need to thrive and to decide if, when, and how to create and sustain their families with dignity, free from discrimination, coercion, or violence. Amanda Williams, Executive Director of the Lilith Fund for Reproductive Equity, will lead the 101 training. Lunch will be provided! </p>
  <p>Special thanks to our event co-sponsors, the Texas Law chapter of the American Constitution Society.</p>\n\nIf you need an accommodation to participate in this event, please contact the event sponsor or the Texas Law Special Events Office at specialevents@law.utexas.edu no later than seven business days prior to the event.
X-ALT-DESC;FMTTYPE=text/html:<p>Join Texas Law's chapter of If/When/How for a presentation on the history of reproductive health, rights, and justice in the United States. Reproductive justice will exist when all people can exercise the rights and access the resources they need to thrive and to decide if, when, and how to create and sustain their families with dignity, free from discrimination, coercion, or violence. Amanda Williams, Executive Director of the Lilith Fund for Reproductive Equity, will lead the 101 training. Lunch will be provided! </p>
  <p>Special thanks to our event co-sponsors, the Texas Law chapter of the American Constitution Society.</p><p>If you need an accommodation to participate in this event, please contact the event
                                          event sponsor or the Texas Law Special Events Office at <a href="mailto:specialevents@law.utexas.edu">specialevents@law.utexas.edu</a> no later than seven business days prior to the event.</p>
CATEGORIES:Lunch
LOCATION:TNH 2.138 - Blanton Classroom
URL:http://law.utexas.edu/calendar/2016/09/13/24704/
CLASS:PUBLIC
STATUS:CONFIRMED
COMMENT:ifwhenhow.texaslaw@gmail.com
END:VEVENT
END:VCALENDAR