BEGIN:VCALENDAR
VERSION:2.0
PRODID:-//UNIVERSITY OF TEXAS SCHOOL OF LAW//NONSGML Events Calendar v1.0//EN
X-WR-TIMEZONE:America/Chicago
BEGIN:VTIMEZONE
TZID:US/Central
X-LIC-LOCATION:America/Chicago
BEGIN:DAYLIGHT
TZOFFSETFROM:-0600
TZOFFSETTO:-0500
TZNAME:CDT
DTSTART:19700308T020000
RRULE:FREQ=YEARLY;BYMONTH=3;BYDAY=2SU
END:DAYLIGHT
BEGIN:STANDARD
TZOFFSETFROM:-0500
TZOFFSETTO:-0600
TZNAME:CST
DTSTART:19701101T020000
RRULE:FREQ=YEARLY;BYMONTH=11;BYDAY=1SU
END:STANDARD
END:VTIMEZONE
BEGIN:VEVENT
DTSTART;TZID=US/Central:20160913T113000
DTEND;VALUE=DATE-TIME;TZID=US/Central:20160913T140000

DTSTAMP:20260419T181600Z
CREATED:20160906T212700Z
LAST-MODIFIED:20160906T212700Z
UID:20160913T113000-24744@law.utexas.edu
SUMMARY:LibraryFest 2016
DESCRIPTION:<p>Come win prizes and feast on treats while checking out the Tarlton Law Library!</p>
  <p>Tarlton is throwing open its doors for Texas Law students to discover more about our services and tour the facility. You’ll get to see the hidden collections and chat with different librarians about all of the resources at your disposal. There will be treats and drawings for prizes at different stations. At the end of your visit, you’ll receive a gift and can enter your name for a grand prize drawing.</p>
  <p>See you there!</p>\n\nIf you need an accommodation to participate in this event, please contact the event sponsor or the Texas Law Special Events Office at specialevents@law.utexas.edu no later than seven business days prior to the event.
X-ALT-DESC;FMTTYPE=text/html:<p>Come win prizes and feast on treats while checking out the Tarlton Law Library!</p>
  <p>Tarlton is throwing open its doors for Texas Law students to discover more about our services and tour the facility. You’ll get to see the hidden collections and chat with different librarians about all of the resources at your disposal. There will be treats and drawings for prizes at different stations. At the end of your visit, you’ll receive a gift and can enter your name for a grand prize drawing.</p>
  <p>See you there!</p><p>If you need an accommodation to participate in this event, please contact the event
                                          event sponsor or the Texas Law Special Events Office at <a href="mailto:specialevents@law.utexas.edu">specialevents@law.utexas.edu</a> no later than seven business days prior to the event.</p>
CATEGORIES:Other
LOCATION:Tarlton Law Library
URL:http://law.utexas.edu/calendar/2016/09/13/24744/
CLASS:PUBLIC
STATUS:CONFIRMED

END:VEVENT
END:VCALENDAR