BEGIN:VCALENDAR
VERSION:2.0
PRODID:-//UNIVERSITY OF TEXAS SCHOOL OF LAW//NONSGML Events Calendar v1.0//EN
X-WR-TIMEZONE:America/Chicago
BEGIN:VTIMEZONE
TZID:US/Central
X-LIC-LOCATION:America/Chicago
BEGIN:DAYLIGHT
TZOFFSETFROM:-0600
TZOFFSETTO:-0500
TZNAME:CDT
DTSTART:19700308T020000
RRULE:FREQ=YEARLY;BYMONTH=3;BYDAY=2SU
END:DAYLIGHT
BEGIN:STANDARD
TZOFFSETFROM:-0500
TZOFFSETTO:-0600
TZNAME:CST
DTSTART:19701101T020000
RRULE:FREQ=YEARLY;BYMONTH=11;BYDAY=1SU
END:STANDARD
END:VTIMEZONE
BEGIN:VEVENT
DTSTART;TZID=US/Central:20160915T183000
DTEND;VALUE=DATE-TIME;TZID=US/Central:20160915T210000

DTSTAMP:20260419T152800Z
CREATED:20160209T164400Z
LAST-MODIFIED:20160915T175900Z
UID:20160915T183000-21866@law.utexas.edu
SUMMARY:Shakespeare and the Law -- Richard III
DESCRIPTION:<p>Free Admission. Reception followed by panel on Shakespeare's "Richard III" Panel members include Alan Friedman, Coordinator, AFTLS; David Kornhaber, Coordinator, AFTLS; Professors Angela Littwin, UT Law; James Loehlin, Director, Shakespeare at Winedale, and the Spirit of Shakespeare's players.</p>\n\nIf you need an accommodation to participate in this event, please contact the event sponsor or the Texas Law Special Events Office at specialevents@law.utexas.edu no later than seven business days prior to the event.
X-ALT-DESC;FMTTYPE=text/html:<p>Free Admission. Reception followed by panel on Shakespeare's "Richard III" Panel members include Alan Friedman, Coordinator, AFTLS; David Kornhaber, Coordinator, AFTLS; Professors Angela Littwin, UT Law; James Loehlin, Director, Shakespeare at Winedale, and the Spirit of Shakespeare's players.</p><p>If you need an accommodation to participate in this event, please contact the event
                                          event sponsor or the Texas Law Special Events Office at <a href="mailto:specialevents@law.utexas.edu">specialevents@law.utexas.edu</a> no later than seven business days prior to the event.</p>

LOCATION:CCJ 2.306 - Eidman Courtroom
URL:http://law.utexas.edu/calendar/2016/09/15/21866/
CLASS:PUBLIC
STATUS:CONFIRMED

END:VEVENT
END:VCALENDAR