BEGIN:VCALENDAR
VERSION:2.0
PRODID:-//UNIVERSITY OF TEXAS SCHOOL OF LAW//NONSGML Events Calendar v1.0//EN
X-WR-TIMEZONE:America/Chicago
BEGIN:VTIMEZONE
TZID:US/Central
X-LIC-LOCATION:America/Chicago
BEGIN:DAYLIGHT
TZOFFSETFROM:-0600
TZOFFSETTO:-0500
TZNAME:CDT
DTSTART:19700308T020000
RRULE:FREQ=YEARLY;BYMONTH=3;BYDAY=2SU
END:DAYLIGHT
BEGIN:STANDARD
TZOFFSETFROM:-0500
TZOFFSETTO:-0600
TZNAME:CST
DTSTART:19701101T020000
RRULE:FREQ=YEARLY;BYMONTH=11;BYDAY=1SU
END:STANDARD
END:VTIMEZONE
BEGIN:VEVENT
DTSTART;TZID=US/Central:20160915T114500
DTEND;VALUE=DATE-TIME;TZID=US/Central:20160915T124500

DTSTAMP:20260419T135400Z
CREATED:20160622T151900Z
LAST-MODIFIED:20160803T203400Z
UID:20160915T114500-22426@law.utexas.edu
SUMMARY:Intro to Public Service Debt Management
DESCRIPTION:<p>Learn strategies to manage your educational debt, including the Texas Law and federal loan repayment and forgiveness programs for lawyers pursuing jobs in the government and public interest sectors. Presented by Mary Crouter, Assistant Director of the William Wayne Justice Center for Public Interest Law, and Nicole Simmons, Director of Public Service Programs with the Career Services Office. Refreshments will be served.</p>
  <p>RSVP by Wednesday, September 14, on <a href="https://law-utexas-csm.symplicity.com/students/">Symplicity</a> by selecting the "Events" tab.</p>\n\nIf you need an accommodation to participate in this event, please contact the event sponsor or the Texas Law Special Events Office at specialevents@law.utexas.edu no later than seven business days prior to the event.
X-ALT-DESC;FMTTYPE=text/html:<p>Learn strategies to manage your educational debt, including the Texas Law and federal loan repayment and forgiveness programs for lawyers pursuing jobs in the government and public interest sectors. Presented by Mary Crouter, Assistant Director of the William Wayne Justice Center for Public Interest Law, and Nicole Simmons, Director of Public Service Programs with the Career Services Office. Refreshments will be served.</p>
  <p>RSVP by Wednesday, September 14, on <a href="https://law-utexas-csm.symplicity.com/students/">Symplicity</a> by selecting the "Events" tab.</p><p>If you need an accommodation to participate in this event, please contact the event
                                          event sponsor or the Texas Law Special Events Office at <a href="mailto:specialevents@law.utexas.edu">specialevents@law.utexas.edu</a> no later than seven business days prior to the event.</p>
CATEGORIES:Workshop / Training Program
LOCATION:TNH 3.140 - Jeffers Courtroom
URL:http://law.utexas.edu/calendar/2016/09/15/22426/
CLASS:PUBLIC
STATUS:CONFIRMED
COMMENT:Please contact Nicole Simmons, Director of Public Service Programs, at 512-232-1160 or <a href="mailto:nsimmons@law.utexas.edu">nsimmons@law.utexas.edu</a>.
END:VEVENT
END:VCALENDAR