BEGIN:VCALENDAR
VERSION:2.0
PRODID:-//UNIVERSITY OF TEXAS SCHOOL OF LAW//NONSGML Events Calendar v1.0//EN
X-WR-TIMEZONE:America/Chicago
BEGIN:VTIMEZONE
TZID:US/Central
X-LIC-LOCATION:America/Chicago
BEGIN:DAYLIGHT
TZOFFSETFROM:-0600
TZOFFSETTO:-0500
TZNAME:CDT
DTSTART:19700308T020000
RRULE:FREQ=YEARLY;BYMONTH=3;BYDAY=2SU
END:DAYLIGHT
BEGIN:STANDARD
TZOFFSETFROM:-0500
TZOFFSETTO:-0600
TZNAME:CST
DTSTART:19701101T020000
RRULE:FREQ=YEARLY;BYMONTH=11;BYDAY=1SU
END:STANDARD
END:VTIMEZONE
BEGIN:VEVENT
DTSTART;TZID=US/Central:20160915T114500
DTEND;VALUE=DATE-TIME;TZID=US/Central:20160915T130000

DTSTAMP:20260419T135400Z
CREATED:20160823T034700Z
LAST-MODIFIED:20160823T034700Z
UID:20160915T114500-24004@law.utexas.edu
SUMMARY:Debate: Living Const. v. Originalism
DESCRIPTION:<p>The Texas Federalist Society celebrates Constitution Day with a debate on two competing approaches to constitutional interpretation: Living Constitution and Originalism. Professor Steve Vladek of Texas Law will debate on behalf of the living constitution interpretation. Professor Stephen Sachs of Duke Law will debate on behalf of the originalist interpretation. Free lunch will be provided.</p>\n\nIf you need an accommodation to participate in this event, please contact the event sponsor or the Texas Law Special Events Office at specialevents@law.utexas.edu no later than seven business days prior to the event.
X-ALT-DESC;FMTTYPE=text/html:<p>The Texas Federalist Society celebrates Constitution Day with a debate on two competing approaches to constitutional interpretation: Living Constitution and Originalism. Professor Steve Vladek of Texas Law will debate on behalf of the living constitution interpretation. Professor Stephen Sachs of Duke Law will debate on behalf of the originalist interpretation. Free lunch will be provided.</p><p>If you need an accommodation to participate in this event, please contact the event
                                          event sponsor or the Texas Law Special Events Office at <a href="mailto:specialevents@law.utexas.edu">specialevents@law.utexas.edu</a> no later than seven business days prior to the event.</p>

LOCATION:TNH 2.140 - Wright Classroom
URL:http://law.utexas.edu/calendar/2016/09/15/24004/
CLASS:PUBLIC
STATUS:CONFIRMED

END:VEVENT
END:VCALENDAR