BEGIN:VCALENDAR
VERSION:2.0
PRODID:-//UNIVERSITY OF TEXAS SCHOOL OF LAW//NONSGML Events Calendar v1.0//EN
X-WR-TIMEZONE:America/Chicago
BEGIN:VTIMEZONE
TZID:US/Central
X-LIC-LOCATION:America/Chicago
BEGIN:DAYLIGHT
TZOFFSETFROM:-0600
TZOFFSETTO:-0500
TZNAME:CDT
DTSTART:19700308T020000
RRULE:FREQ=YEARLY;BYMONTH=3;BYDAY=2SU
END:DAYLIGHT
BEGIN:STANDARD
TZOFFSETFROM:-0500
TZOFFSETTO:-0600
TZNAME:CST
DTSTART:19701101T020000
RRULE:FREQ=YEARLY;BYMONTH=11;BYDAY=1SU
END:STANDARD
END:VTIMEZONE
BEGIN:VEVENT
DTSTART;TZID=US/Central:20160919T114500
DTEND;VALUE=DATE-TIME;TZID=US/Central:20160919T124500

DTSTAMP:20260419T154500Z
CREATED:20160803T162600Z
LAST-MODIFIED:20160916T150900Z
UID:20160919T114500-23406@law.utexas.edu
SUMMARY:1L Career Success Series, Session 1
DESCRIPTION:<p>First of three Career Success Modules for 1Ls. In this first module, learn about 1L summer employment statistics, student employment reporting, CSO tools &amp; resources, and upcoming “How to Apply” programming.  Lunch will be served. </p>
  <p>RSVP by Friday, September 16, on <a href="https://law-utexas-csm.symplicity.com/students/"> Symplicity</a> by selecting the "Events" tab.</p>\n\nIf you need an accommodation to participate in this event, please contact the event sponsor or the Texas Law Special Events Office at specialevents@law.utexas.edu no later than seven business days prior to the event.
X-ALT-DESC;FMTTYPE=text/html:<p>First of three Career Success Modules for 1Ls. In this first module, learn about 1L summer employment statistics, student employment reporting, CSO tools &amp; resources, and upcoming “How to Apply” programming.  Lunch will be served. </p>
  <p>RSVP by Friday, September 16, on <a href="https://law-utexas-csm.symplicity.com/students/"> Symplicity</a> by selecting the "Events" tab.</p><p>If you need an accommodation to participate in this event, please contact the event
                                          event sponsor or the Texas Law Special Events Office at <a href="mailto:specialevents@law.utexas.edu">specialevents@law.utexas.edu</a> no later than seven business days prior to the event.</p>
CATEGORIES:Workshop / Training Program
LOCATION:TNH 2.140 - Wright Classroom
URL:http://law.utexas.edu/calendar/2016/09/19/23406/
CLASS:PUBLIC
STATUS:CONFIRMED
COMMENT:Please contact Nicole Simmons, Director of Public Service Programs, at 512-232-1160, or <a href="mailto:NSimmons@law.utexas.edu">NSimmons@law.utexas.edu</a>.
END:VEVENT
END:VCALENDAR