BEGIN:VCALENDAR
VERSION:2.0
PRODID:-//UNIVERSITY OF TEXAS SCHOOL OF LAW//NONSGML Events Calendar v1.0//EN
X-WR-TIMEZONE:America/Chicago
BEGIN:VTIMEZONE
TZID:US/Central
X-LIC-LOCATION:America/Chicago
BEGIN:DAYLIGHT
TZOFFSETFROM:-0600
TZOFFSETTO:-0500
TZNAME:CDT
DTSTART:19700308T020000
RRULE:FREQ=YEARLY;BYMONTH=3;BYDAY=2SU
END:DAYLIGHT
BEGIN:STANDARD
TZOFFSETFROM:-0500
TZOFFSETTO:-0600
TZNAME:CST
DTSTART:19701101T020000
RRULE:FREQ=YEARLY;BYMONTH=11;BYDAY=1SU
END:STANDARD
END:VTIMEZONE
BEGIN:VEVENT
DTSTART;TZID=US/Central:20160922T114500
DTEND;VALUE=DATE-TIME;TZID=US/Central:20160922T124500

DTSTAMP:20260419T202200Z
CREATED:20160617T172300Z
LAST-MODIFIED:20160916T151300Z
UID:20160922T114500-22404@law.utexas.edu
SUMMARY:Postgraduate Public Interest Fellowships
DESCRIPTION:<p>This program is for all class years: 1Ls trying to figure out what postgraduate public interest fellowships are, 2Ls navigating the summer employer and potential host organization search and 3Ls committed to applying for fellowships post judicial clerkships. A panel of current and former fellows will address how you should be preparing now to position yourself as a viable candidate for these highly competitive fellowships.</p>
  <p>Panelists include
  <strong>Megan Sheffield ‘13</strong>, Attorney and former <a href="http://www.equaljusticeworks.org/post-grad/equal-justice-works-fellowships">Equal Justice Works Fellow</a>with the <a href="http://equaljusticecenter.org/">Equal Justice Center</a>, and former <a href="http://www.utexas.edu/law/centers/publicinterest/justicecorps/glickmanfellow.html">UT Law Faculty/Julius Glickman Fellow </a>with <a href="http://www.casamarianella.org/">Casa Marianella Immigration Legal Services</a>, and
   	<strong>Tovah Pentelovitch’15</strong>, current <a href="http://www.equaljusticeworks.org/post-grad/equal-justice-works-fellowships">Equal Justice Works fellow</a>, with <a href="http://www.trla.org/">Texas RioGrande Legal Aid;</a>and
   	<strong>Anya Morgan</strong>, 3L and current postgraduate fellowship applicant.
  Co-sponsored by the Career Services Office and the William Wayne Justice Center for Public Interest Law.</p>
  <p>Lunch will be served. RSVP by Wednesday, September 21, on <a href="https://law-utexas-csm.symplicity.com/students/">Symplicity</a> by selecting the "Events" tab.</p>\n\nIf you need an accommodation to participate in this event, please contact the event sponsor or the Texas Law Special Events Office at specialevents@law.utexas.edu no later than seven business days prior to the event.
X-ALT-DESC;FMTTYPE=text/html:<p>This program is for all class years: 1Ls trying to figure out what postgraduate public interest fellowships are, 2Ls navigating the summer employer and potential host organization search and 3Ls committed to applying for fellowships post judicial clerkships. A panel of current and former fellows will address how you should be preparing now to position yourself as a viable candidate for these highly competitive fellowships.</p>
  <p>Panelists include
  <strong>Megan Sheffield ‘13</strong>, Attorney and former <a href="http://www.equaljusticeworks.org/post-grad/equal-justice-works-fellowships">Equal Justice Works Fellow</a>with the <a href="http://equaljusticecenter.org/">Equal Justice Center</a>, and former <a href="http://www.utexas.edu/law/centers/publicinterest/justicecorps/glickmanfellow.html">UT Law Faculty/Julius Glickman Fellow </a>with <a href="http://www.casamarianella.org/">Casa Marianella Immigration Legal Services</a>, and
   	<strong>Tovah Pentelovitch’15</strong>, current <a href="http://www.equaljusticeworks.org/post-grad/equal-justice-works-fellowships">Equal Justice Works fellow</a>, with <a href="http://www.trla.org/">Texas RioGrande Legal Aid;</a>and
   	<strong>Anya Morgan</strong>, 3L and current postgraduate fellowship applicant.
  Co-sponsored by the Career Services Office and the William Wayne Justice Center for Public Interest Law.</p>
  <p>Lunch will be served. RSVP by Wednesday, September 21, on <a href="https://law-utexas-csm.symplicity.com/students/">Symplicity</a> by selecting the "Events" tab.</p><p>If you need an accommodation to participate in this event, please contact the event
                                          event sponsor or the Texas Law Special Events Office at <a href="mailto:specialevents@law.utexas.edu">specialevents@law.utexas.edu</a> no later than seven business days prior to the event.</p>
CATEGORIES:Workshop / Training Program
LOCATION:CCJ 2.306 - Eidman Courtroom
URL:http://law.utexas.edu/calendar/2016/09/22/22404/
CLASS:PUBLIC
STATUS:CONFIRMED
COMMENT:Please contact Nicole Simmons, Director of Public Service Programs, at 512-232-1160 or <a href="mailto:nsimmons@law.utexas.edu">nsimmons@law.utexas.edu</a>.
END:VEVENT
END:VCALENDAR