BEGIN:VCALENDAR
VERSION:2.0
PRODID:-//UNIVERSITY OF TEXAS SCHOOL OF LAW//NONSGML Events Calendar v1.0//EN
X-WR-TIMEZONE:America/Chicago
BEGIN:VTIMEZONE
TZID:US/Central
X-LIC-LOCATION:America/Chicago
BEGIN:DAYLIGHT
TZOFFSETFROM:-0600
TZOFFSETTO:-0500
TZNAME:CDT
DTSTART:19700308T020000
RRULE:FREQ=YEARLY;BYMONTH=3;BYDAY=2SU
END:DAYLIGHT
BEGIN:STANDARD
TZOFFSETFROM:-0500
TZOFFSETTO:-0600
TZNAME:CST
DTSTART:19701101T020000
RRULE:FREQ=YEARLY;BYMONTH=11;BYDAY=1SU
END:STANDARD
END:VTIMEZONE
BEGIN:VEVENT
DTSTART;TZID=US/Central:20160922T190000
DTEND;VALUE=DATE-TIME;TZID=US/Central:20160922T210000

DTSTAMP:20260419T122100Z
CREATED:20160829T185400Z
LAST-MODIFIED:20160907T001700Z
UID:20160922T190000-24345@law.utexas.edu
SUMMARY:Legal Strategies for Protecting Animals
DESCRIPTION:<p>Stephen Wells, executive director of the Animal Legal Defense Fund, will be visiting The University of Texas to speak about his work and legal strategies for protecting animals. Food will be provided and the event is open to the general public. </p>\n\nIf you need an accommodation to participate in this event, please contact the event sponsor or the Texas Law Special Events Office at specialevents@law.utexas.edu no later than seven business days prior to the event.
X-ALT-DESC;FMTTYPE=text/html:<p>Stephen Wells, executive director of the Animal Legal Defense Fund, will be visiting The University of Texas to speak about his work and legal strategies for protecting animals. Food will be provided and the event is open to the general public. </p><p>If you need an accommodation to participate in this event, please contact the event
                                          event sponsor or the Texas Law Special Events Office at <a href="mailto:specialevents@law.utexas.edu">specialevents@law.utexas.edu</a> no later than seven business days prior to the event.</p>
CATEGORIES:Panel Discussion / Speaker Series
LOCATION:TNH 2.114 - Francis Auditorium
URL:http://law.utexas.edu/calendar/2016/09/22/24345/
CLASS:PUBLIC
STATUS:CONFIRMED
COMMENT:email saldf.texas.law@gmail.com or visit our Facebook page @UTLawSALDF
END:VEVENT
END:VCALENDAR