BEGIN:VCALENDAR
VERSION:2.0
PRODID:-//UNIVERSITY OF TEXAS SCHOOL OF LAW//NONSGML Events Calendar v1.0//EN
X-WR-TIMEZONE:America/Chicago
BEGIN:VTIMEZONE
TZID:US/Central
X-LIC-LOCATION:America/Chicago
BEGIN:DAYLIGHT
TZOFFSETFROM:-0600
TZOFFSETTO:-0500
TZNAME:CDT
DTSTART:19700308T020000
RRULE:FREQ=YEARLY;BYMONTH=3;BYDAY=2SU
END:DAYLIGHT
BEGIN:STANDARD
TZOFFSETFROM:-0500
TZOFFSETTO:-0600
TZNAME:CST
DTSTART:19701101T020000
RRULE:FREQ=YEARLY;BYMONTH=11;BYDAY=1SU
END:STANDARD
END:VTIMEZONE
BEGIN:VEVENT
DTSTART;TZID=US/Central:20160922T120000
DTEND;VALUE=DATE-TIME;TZID=US/Central:20160922T123000

DTSTAMP:20260419T195600Z
CREATED:20160914T184200Z
LAST-MODIFIED:20160914T184200Z
UID:20160922T120000-25065@law.utexas.edu
SUMMARY:Study Abroad Information Session
DESCRIPTION:<p>Graduate &amp; International Programs invites you to learn about Texas Law's English and foreign-language study abroad programs and opportunities at our 31 foreign universities located across the globe. This session will cover program requirements, completing the application process, choosing the right program, and getting the most from your international experience. This session is for 2Ls who would like to study abroad in their 3L year. </p>
  <p>Date: September 22, 2016
  Time: 12pm
  Place: TNH 2.123</p>
  <p>Please email ISP@law.utexas.edu or stop in at 2.118B for more information.
  </p>\n\nIf you need an accommodation to participate in this event, please contact the event sponsor or the Texas Law Special Events Office at specialevents@law.utexas.edu no later than seven business days prior to the event.
X-ALT-DESC;FMTTYPE=text/html:<p>Graduate &amp; International Programs invites you to learn about Texas Law's English and foreign-language study abroad programs and opportunities at our 31 foreign universities located across the globe. This session will cover program requirements, completing the application process, choosing the right program, and getting the most from your international experience. This session is for 2Ls who would like to study abroad in their 3L year. </p>
  <p>Date: September 22, 2016
  Time: 12pm
  Place: TNH 2.123</p>
  <p>Please email ISP@law.utexas.edu or stop in at 2.118B for more information.
  </p><p>If you need an accommodation to participate in this event, please contact the event
                                          event sponsor or the Texas Law Special Events Office at <a href="mailto:specialevents@law.utexas.edu">specialevents@law.utexas.edu</a> no later than seven business days prior to the event.</p>
CATEGORIES:Other
LOCATION:TNH 2.123 - Beck Classroom
URL:http://law.utexas.edu/calendar/2016/09/22/25065/
CLASS:PUBLIC
STATUS:CONFIRMED
COMMENT:Contact ISP@law.utexas.edu
END:VEVENT
END:VCALENDAR