BEGIN:VCALENDAR
VERSION:2.0
PRODID:-//UNIVERSITY OF TEXAS SCHOOL OF LAW//NONSGML Events Calendar v1.0//EN
X-WR-TIMEZONE:America/Chicago
BEGIN:VTIMEZONE
TZID:US/Central
X-LIC-LOCATION:America/Chicago
BEGIN:DAYLIGHT
TZOFFSETFROM:-0600
TZOFFSETTO:-0500
TZNAME:CDT
DTSTART:19700308T020000
RRULE:FREQ=YEARLY;BYMONTH=3;BYDAY=2SU
END:DAYLIGHT
BEGIN:STANDARD
TZOFFSETFROM:-0500
TZOFFSETTO:-0600
TZNAME:CST
DTSTART:19701101T020000
RRULE:FREQ=YEARLY;BYMONTH=11;BYDAY=1SU
END:STANDARD
END:VTIMEZONE
BEGIN:VEVENT
DTSTART;TZID=US/Central:20160923T130000
DTEND;VALUE=DATE-TIME;TZID=US/Central:20160923T144500

DTSTAMP:20260419T181700Z
CREATED:20160920T173900Z
LAST-MODIFIED:20160920T173900Z
UID:20160923T130000-25284@law.utexas.edu
SUMMARY:Transactional Law Practicum
DESCRIPTION:<p>If you are a 2L or 3L interested in honing your skills as a transactional attorney sign up for the TBLS LawMeet Fall Practicum here!  The Fall Practicum will be Sept. 23rd, Sept. 30th, and Oct. 7th from 1-2:30 PM. 
  Students are required to participate in the Fall Practicum and the upcoming Intramural Competition (more information coming soon) to be eligible for the traveling LawMeet teams in the Spring semester.  Seats are limited, so sign up today. </p>\n\nIf you need an accommodation to participate in this event, please contact the event sponsor or the Texas Law Special Events Office at specialevents@law.utexas.edu no later than seven business days prior to the event.
X-ALT-DESC;FMTTYPE=text/html:<p>If you are a 2L or 3L interested in honing your skills as a transactional attorney sign up for the TBLS LawMeet Fall Practicum here!  The Fall Practicum will be Sept. 23rd, Sept. 30th, and Oct. 7th from 1-2:30 PM. 
  Students are required to participate in the Fall Practicum and the upcoming Intramural Competition (more information coming soon) to be eligible for the traveling LawMeet teams in the Spring semester.  Seats are limited, so sign up today. </p><p>If you need an accommodation to participate in this event, please contact the event
                                          event sponsor or the Texas Law Special Events Office at <a href="mailto:specialevents@law.utexas.edu">specialevents@law.utexas.edu</a> no later than seven business days prior to the event.</p>
CATEGORIES:Panel Discussion / Speaker Series
LOCATION:JON 5.257 - Seminar Room
URL:http://law.utexas.edu/calendar/2016/09/23/25284/
CLASS:PUBLIC
STATUS:CONFIRMED

END:VEVENT
END:VCALENDAR