BEGIN:VCALENDAR
VERSION:2.0
PRODID:-//UNIVERSITY OF TEXAS SCHOOL OF LAW//NONSGML Events Calendar v1.0//EN
X-WR-TIMEZONE:America/Chicago
BEGIN:VTIMEZONE
TZID:US/Central
X-LIC-LOCATION:America/Chicago
BEGIN:DAYLIGHT
TZOFFSETFROM:-0600
TZOFFSETTO:-0500
TZNAME:CDT
DTSTART:19700308T020000
RRULE:FREQ=YEARLY;BYMONTH=3;BYDAY=2SU
END:DAYLIGHT
BEGIN:STANDARD
TZOFFSETFROM:-0500
TZOFFSETTO:-0600
TZNAME:CST
DTSTART:19701101T020000
RRULE:FREQ=YEARLY;BYMONTH=11;BYDAY=1SU
END:STANDARD
END:VTIMEZONE
BEGIN:VEVENT
DTSTART;TZID=US/Central:20161003T130000
DTEND;VALUE=DATE-TIME;TZID=US/Central:20161003T140000

DTSTAMP:20260419T194200Z
CREATED:20160804T143600Z
LAST-MODIFIED:20160927T162900Z
UID:20161003T130000-23426@law.utexas.edu
SUMMARY:1L Career Success Series, Session II
DESCRIPTION:<p>Second of three CSO Career Success Sessions for 1Ls. In this session, learn how to prepare your application materials and what to expect in your initial one-on-one career counseling session. This event is for Green/Cadena Societies. Lunch will be served.</p>
  <p>RSVP by Friday, October 7, on <a href="https://law-utexas-csm.symplicity.com/students/"> Symplicity</a> by selecting the "Events" tab.</p>\n\nIf you need an accommodation to participate in this event, please contact the event sponsor or the Texas Law Special Events Office at specialevents@law.utexas.edu no later than seven business days prior to the event.
X-ALT-DESC;FMTTYPE=text/html:<p>Second of three CSO Career Success Sessions for 1Ls. In this session, learn how to prepare your application materials and what to expect in your initial one-on-one career counseling session. This event is for Green/Cadena Societies. Lunch will be served.</p>
  <p>RSVP by Friday, October 7, on <a href="https://law-utexas-csm.symplicity.com/students/"> Symplicity</a> by selecting the "Events" tab.</p><p>If you need an accommodation to participate in this event, please contact the event
                                          event sponsor or the Texas Law Special Events Office at <a href="mailto:specialevents@law.utexas.edu">specialevents@law.utexas.edu</a> no later than seven business days prior to the event.</p>
CATEGORIES:Workshop / Training Program
LOCATION:TNH 2.140 - Wright Classroom
URL:http://law.utexas.edu/calendar/2016/10/03/23426/
CLASS:PUBLIC
STATUS:CONFIRMED
COMMENT:Please contact Simone Leavenworth, Career Counselor, at 512-232-1157 or <a href="mailto:sleavenworth@law.utexas.edu">sleavenworth@law.utexas.edu</a>.
END:VEVENT
END:VCALENDAR