BEGIN:VCALENDAR
VERSION:2.0
PRODID:-//UNIVERSITY OF TEXAS SCHOOL OF LAW//NONSGML Events Calendar v1.0//EN
X-WR-TIMEZONE:America/Chicago
BEGIN:VTIMEZONE
TZID:US/Central
X-LIC-LOCATION:America/Chicago
BEGIN:DAYLIGHT
TZOFFSETFROM:-0600
TZOFFSETTO:-0500
TZNAME:CDT
DTSTART:19700308T020000
RRULE:FREQ=YEARLY;BYMONTH=3;BYDAY=2SU
END:DAYLIGHT
BEGIN:STANDARD
TZOFFSETFROM:-0500
TZOFFSETTO:-0600
TZNAME:CST
DTSTART:19701101T020000
RRULE:FREQ=YEARLY;BYMONTH=11;BYDAY=1SU
END:STANDARD
END:VTIMEZONE
BEGIN:VEVENT
DTSTART;TZID=US/Central:20161004T114500
DTEND;VALUE=DATE-TIME;TZID=US/Central:20161004T130000

DTSTAMP:20260419T153100Z
CREATED:20160922T143400Z
LAST-MODIFIED:20160922T143400Z
UID:20161004T114500-25384@law.utexas.edu
SUMMARY:Environmental Law Career Panel
DESCRIPTION:<p>Career Panel and Free Lunch! with Erin Gaines (Texas RioGrande Legal Aid), Kelly Davis (Save Our Springs), Adrian Shelley (Air Alliance), and Ashley Phillips (Thompson &amp; Knight), room TBD. Thinking of a career in environmental law? Meet some of the giants in the Texas area--if you are interested in environmental justice, water issues, air pollution, or regulatory compliance--these friendly UT graduates can help guide you on your way! Especially great session to attend if you want to know how environmental law fits into other practice areas.</p>\n\nIf you need an accommodation to participate in this event, please contact the event sponsor or the Texas Law Special Events Office at specialevents@law.utexas.edu no later than seven business days prior to the event.
X-ALT-DESC;FMTTYPE=text/html:<p>Career Panel and Free Lunch! with Erin Gaines (Texas RioGrande Legal Aid), Kelly Davis (Save Our Springs), Adrian Shelley (Air Alliance), and Ashley Phillips (Thompson &amp; Knight), room TBD. Thinking of a career in environmental law? Meet some of the giants in the Texas area--if you are interested in environmental justice, water issues, air pollution, or regulatory compliance--these friendly UT graduates can help guide you on your way! Especially great session to attend if you want to know how environmental law fits into other practice areas.</p><p>If you need an accommodation to participate in this event, please contact the event
                                          event sponsor or the Texas Law Special Events Office at <a href="mailto:specialevents@law.utexas.edu">specialevents@law.utexas.edu</a> no later than seven business days prior to the event.</p>
CATEGORIES:Panel Discussion / Speaker Series
LOCATION:TNH 3.115 - Bell Seminar Room
URL:http://law.utexas.edu/calendar/2016/10/04/25384/
CLASS:PUBLIC
STATUS:CONFIRMED

END:VEVENT
END:VCALENDAR