BEGIN:VCALENDAR
VERSION:2.0
PRODID:-//UNIVERSITY OF TEXAS SCHOOL OF LAW//NONSGML Events Calendar v1.0//EN
X-WR-TIMEZONE:America/Chicago
BEGIN:VTIMEZONE
TZID:US/Central
X-LIC-LOCATION:America/Chicago
BEGIN:DAYLIGHT
TZOFFSETFROM:-0600
TZOFFSETTO:-0500
TZNAME:CDT
DTSTART:19700308T020000
RRULE:FREQ=YEARLY;BYMONTH=3;BYDAY=2SU
END:DAYLIGHT
BEGIN:STANDARD
TZOFFSETFROM:-0500
TZOFFSETTO:-0600
TZNAME:CST
DTSTART:19701101T020000
RRULE:FREQ=YEARLY;BYMONTH=11;BYDAY=1SU
END:STANDARD
END:VTIMEZONE
BEGIN:VEVENT
DTSTART;TZID=US/Central:20161005T110000
DTEND;VALUE=DATE-TIME;TZID=US/Central:20161005T140000

DTSTAMP:20260419T181700Z
CREATED:20160926T184700Z
LAST-MODIFIED:20160926T184700Z
UID:20161005T110000-25484@law.utexas.edu
SUMMARY:TBLS's Annual Associate Lunch
DESCRIPTION:<p>Students will have the opportunity to interact and talk with associates and young attorneys about the transactional practice over an informal lunch. This is an amazing chance to practice your networking skills, ask questions for practicing attorneys, and enjoy a great meal. We will try as best we can to match students with attorneys in their interested practice area and/or location. </p>
  <p>Space is limited and reserved for dues paying due members only. RSVP early in order to guarantee a seat. </p>\n\nIf you need an accommodation to participate in this event, please contact the event sponsor or the Texas Law Special Events Office at specialevents@law.utexas.edu no later than seven business days prior to the event.
X-ALT-DESC;FMTTYPE=text/html:<p>Students will have the opportunity to interact and talk with associates and young attorneys about the transactional practice over an informal lunch. This is an amazing chance to practice your networking skills, ask questions for practicing attorneys, and enjoy a great meal. We will try as best we can to match students with attorneys in their interested practice area and/or location. </p>
  <p>Space is limited and reserved for dues paying due members only. RSVP early in order to guarantee a seat. </p><p>If you need an accommodation to participate in this event, please contact the event
                                          event sponsor or the Texas Law Special Events Office at <a href="mailto:specialevents@law.utexas.edu">specialevents@law.utexas.edu</a> no later than seven business days prior to the event.</p>
CATEGORIES:Lunch
LOCATION:CCJ 2.300 - Jamail Pavilion
URL:http://law.utexas.edu/calendar/2016/10/05/25484/
CLASS:PUBLIC
STATUS:CONFIRMED

END:VEVENT
END:VCALENDAR