BEGIN:VCALENDAR
VERSION:2.0
PRODID:-//UNIVERSITY OF TEXAS SCHOOL OF LAW//NONSGML Events Calendar v1.0//EN
X-WR-TIMEZONE:America/Chicago
BEGIN:VTIMEZONE
TZID:US/Central
X-LIC-LOCATION:America/Chicago
BEGIN:DAYLIGHT
TZOFFSETFROM:-0600
TZOFFSETTO:-0500
TZNAME:CDT
DTSTART:19700308T020000
RRULE:FREQ=YEARLY;BYMONTH=3;BYDAY=2SU
END:DAYLIGHT
BEGIN:STANDARD
TZOFFSETFROM:-0500
TZOFFSETTO:-0600
TZNAME:CST
DTSTART:19701101T020000
RRULE:FREQ=YEARLY;BYMONTH=11;BYDAY=1SU
END:STANDARD
END:VTIMEZONE
BEGIN:VEVENT
DTSTART;TZID=US/Central:20161006T114500
DTEND;VALUE=DATE-TIME;TZID=US/Central:20161006T124500

DTSTAMP:20260419T181700Z
CREATED:20160502T160800Z
LAST-MODIFIED:20160513T163300Z
UID:20161006T114500-22131@law.utexas.edu
SUMMARY:Judicial Clerkships: Intro &amp; How to Appl
DESCRIPTION:<p>This is a mandatory event for all 2Ls and 3Ls (3Ls not already in the program) who wish to apply for judicial clerkships. The program staff will give an introduction to the resources and support available to applicants and provide detailed instructions on how to begin applying for judicial clerkships. Lunch will be provided, RSVP on Symplicity by Wednesday, 10/5. </p>\n\nIf you need an accommodation to participate in this event, please contact the event sponsor or the Texas Law Special Events Office at specialevents@law.utexas.edu no later than seven business days prior to the event.
X-ALT-DESC;FMTTYPE=text/html:<p>This is a mandatory event for all 2Ls and 3Ls (3Ls not already in the program) who wish to apply for judicial clerkships. The program staff will give an introduction to the resources and support available to applicants and provide detailed instructions on how to begin applying for judicial clerkships. Lunch will be provided, RSVP on Symplicity by Wednesday, 10/5. </p><p>If you need an accommodation to participate in this event, please contact the event
                                          event sponsor or the Texas Law Special Events Office at <a href="mailto:specialevents@law.utexas.edu">specialevents@law.utexas.edu</a> no later than seven business days prior to the event.</p>
CATEGORIES:Other
LOCATION:TNH 2.140 - Wright Classroom
URL:http://law.utexas.edu/calendar/2016/10/06/22131/
CLASS:PUBLIC
STATUS:CONFIRMED
COMMENT:clerk-admin@law.utexas.edu
END:VEVENT
END:VCALENDAR