BEGIN:VCALENDAR
VERSION:2.0
PRODID:-//UNIVERSITY OF TEXAS SCHOOL OF LAW//NONSGML Events Calendar v1.0//EN
X-WR-TIMEZONE:America/Chicago
BEGIN:VTIMEZONE
TZID:US/Central
X-LIC-LOCATION:America/Chicago
BEGIN:DAYLIGHT
TZOFFSETFROM:-0600
TZOFFSETTO:-0500
TZNAME:CDT
DTSTART:19700308T020000
RRULE:FREQ=YEARLY;BYMONTH=3;BYDAY=2SU
END:DAYLIGHT
BEGIN:STANDARD
TZOFFSETFROM:-0500
TZOFFSETTO:-0600
TZNAME:CST
DTSTART:19701101T020000
RRULE:FREQ=YEARLY;BYMONTH=11;BYDAY=1SU
END:STANDARD
END:VTIMEZONE
BEGIN:VEVENT
DTSTART;TZID=US/Central:20161011T120000
DTEND;VALUE=DATE-TIME;TZID=US/Central:20161011T124500

DTSTAMP:20260419T122100Z
CREATED:20160711T172300Z
LAST-MODIFIED:20161007T160400Z
UID:20161011T120000-22784@law.utexas.edu
SUMMARY:Freshlaw Skills Session - Outlining
DESCRIPTION:<p>Outlining is the process of gathering your knowledge about an area of the law into one usable document/chart/flow chart. Outlines can take many different formats; the format a student should choose will depend on the course and the learning style of the student. This session will explore different types of outlining and will help 1Ls get started.</p>
  <p>Haynes and Boone is again providing lunch for everyone! </p>\n\nIf you need an accommodation to participate in this event, please contact the event sponsor or the Texas Law Special Events Office at specialevents@law.utexas.edu no later than seven business days prior to the event.
X-ALT-DESC;FMTTYPE=text/html:<p>Outlining is the process of gathering your knowledge about an area of the law into one usable document/chart/flow chart. Outlines can take many different formats; the format a student should choose will depend on the course and the learning style of the student. This session will explore different types of outlining and will help 1Ls get started.</p>
  <p>Haynes and Boone is again providing lunch for everyone! </p><p>If you need an accommodation to participate in this event, please contact the event
                                          event sponsor or the Texas Law Special Events Office at <a href="mailto:specialevents@law.utexas.edu">specialevents@law.utexas.edu</a> no later than seven business days prior to the event.</p>
CATEGORIES:Workshop / Training Program
LOCATION:TNH 2.137 - Gayle Classroom
URL:http://law.utexas.edu/calendar/2016/10/11/22784/
CLASS:PUBLIC
STATUS:CONFIRMED

END:VEVENT
END:VCALENDAR