BEGIN:VCALENDAR
VERSION:2.0
PRODID:-//UNIVERSITY OF TEXAS SCHOOL OF LAW//NONSGML Events Calendar v1.0//EN
X-WR-TIMEZONE:America/Chicago
BEGIN:VTIMEZONE
TZID:US/Central
X-LIC-LOCATION:America/Chicago
BEGIN:DAYLIGHT
TZOFFSETFROM:-0600
TZOFFSETTO:-0500
TZNAME:CDT
DTSTART:19700308T020000
RRULE:FREQ=YEARLY;BYMONTH=3;BYDAY=2SU
END:DAYLIGHT
BEGIN:STANDARD
TZOFFSETFROM:-0500
TZOFFSETTO:-0600
TZNAME:CST
DTSTART:19701101T020000
RRULE:FREQ=YEARLY;BYMONTH=11;BYDAY=1SU
END:STANDARD
END:VTIMEZONE
BEGIN:VEVENT
DTSTART;TZID=US/Central:20161012T190000
DTEND;VALUE=DATE-TIME;TZID=US/Central:20161012T220000

DTSTAMP:20260419T135400Z
CREATED:20160921T203700Z
LAST-MODIFIED:20160921T203700Z
UID:20161012T190000-25364@law.utexas.edu
SUMMARY:Society Week: Trivia Night @ Scholz
DESCRIPTION:<p>Society Week continues on Wednesday with Trivia Night @ Scholz Garten (1607 San Jacinto Blvd).  Come for the free food and drinks, stay for the good times, brain teasers, and friendly society competition!  Food and drinks will be served at 7pm, trivia starts at 8pm.</p>\n\nIf you need an accommodation to participate in this event, please contact the event sponsor or the Texas Law Special Events Office at specialevents@law.utexas.edu no later than seven business days prior to the event.
X-ALT-DESC;FMTTYPE=text/html:<p>Society Week continues on Wednesday with Trivia Night @ Scholz Garten (1607 San Jacinto Blvd).  Come for the free food and drinks, stay for the good times, brain teasers, and friendly society competition!  Food and drinks will be served at 7pm, trivia starts at 8pm.</p><p>If you need an accommodation to participate in this event, please contact the event
                                          event sponsor or the Texas Law Special Events Office at <a href="mailto:specialevents@law.utexas.edu">specialevents@law.utexas.edu</a> no later than seven business days prior to the event.</p>


URL:http://law.utexas.edu/calendar/2016/10/12/25364/
CLASS:PUBLIC
STATUS:CONFIRMED

END:VEVENT
END:VCALENDAR