BEGIN:VCALENDAR
VERSION:2.0
PRODID:-//UNIVERSITY OF TEXAS SCHOOL OF LAW//NONSGML Events Calendar v1.0//EN
X-WR-TIMEZONE:America/Chicago
BEGIN:VTIMEZONE
TZID:US/Central
X-LIC-LOCATION:America/Chicago
BEGIN:DAYLIGHT
TZOFFSETFROM:-0600
TZOFFSETTO:-0500
TZNAME:CDT
DTSTART:19700308T020000
RRULE:FREQ=YEARLY;BYMONTH=3;BYDAY=2SU
END:DAYLIGHT
BEGIN:STANDARD
TZOFFSETFROM:-0500
TZOFFSETTO:-0600
TZNAME:CST
DTSTART:19701101T020000
RRULE:FREQ=YEARLY;BYMONTH=11;BYDAY=1SU
END:STANDARD
END:VTIMEZONE
BEGIN:VEVENT
DTSTART;TZID=US/Central:20161012T090000
DTEND;VALUE=DATE-TIME;TZID=US/Central:20161012T163000

DTSTAMP:20260419T152600Z
CREATED:20161003T140200Z
LAST-MODIFIED:20161006T201600Z
UID:20161012T090000-25784@law.utexas.edu
SUMMARY:Meet Luke Watson, Third Way
DESCRIPTION:<p>SIGN UP IN THE CSO. Luke Watson, Deputy Director of Strategy and Leadership Development, will be available for 30-minute, one-on-one meetings to discuss opportunities with <a href="http://www.thirdway.org/">Third Way</a>.</p>
  <p>To sign-up for an individual meeting, please stop by the CSO in TNH 3.130 or contact the CSO at 512-232-1150. </p>
  <p>3Ls: the Third Way Fellows Program is a full-time, 12-month program that comes with a $50,000 annual stipend, two weeks paid vacation, and benefits. But it also comes with the opportunity to meet with top Washington policy players; to co-author papers and produce new ideas, research, and insights; to learn our methodology; and to leverage our wide-ranging DC network into future career opportunities. </p>
  <p>Every September our four policy programs welcome a new Fellow for the year – during that time, the Fellows take on projects and produce papers and reports with guidance from the program vice presidents. They interact with policy and decision-makers, thinkers and talkers. They are published in major print and online periodicals. They take advantage of Third Way’s ever-growing network of public policy professionals and go on to find fulfilling work at other think tanks, congressional committees, private-sector firms, advocacy organizations, and the federal government.</p>
  <p>During your time at Third Way you will learn skills in: </p>
  <p>∙ Workflow Management ∙ Leveraging Polarities 
  ∙ Meeting Facilitation and Participation ∙ Parallel Thinking 
  ∙ Dynamic Presentation and Communication ∙ Creativity 
  ∙ Design Thinking ∙ Networking and interview skills </p>
  <p>If you are an ideologically rebellious, fresh-thinking policy wonk willing to listen and learn, we’d like you to join us. </p>
  <p>Apply by March 1, 2017, to start in September 2017. </p>
  <p>If you have any questions, email <a href="mailto:fellowship@thirdway.org">fellowship@thirdway.org</a>.</p>\n\nIf you need an accommodation to participate in this event, please contact the event sponsor or the Texas Law Special Events Office at specialevents@law.utexas.edu no later than seven business days prior to the event.
X-ALT-DESC;FMTTYPE=text/html:<p>SIGN UP IN THE CSO. Luke Watson, Deputy Director of Strategy and Leadership Development, will be available for 30-minute, one-on-one meetings to discuss opportunities with <a href="http://www.thirdway.org/">Third Way</a>.</p>
  <p>To sign-up for an individual meeting, please stop by the CSO in TNH 3.130 or contact the CSO at 512-232-1150. </p>
  <p>3Ls: the Third Way Fellows Program is a full-time, 12-month program that comes with a $50,000 annual stipend, two weeks paid vacation, and benefits. But it also comes with the opportunity to meet with top Washington policy players; to co-author papers and produce new ideas, research, and insights; to learn our methodology; and to leverage our wide-ranging DC network into future career opportunities. </p>
  <p>Every September our four policy programs welcome a new Fellow for the year – during that time, the Fellows take on projects and produce papers and reports with guidance from the program vice presidents. They interact with policy and decision-makers, thinkers and talkers. They are published in major print and online periodicals. They take advantage of Third Way’s ever-growing network of public policy professionals and go on to find fulfilling work at other think tanks, congressional committees, private-sector firms, advocacy organizations, and the federal government.</p>
  <p>During your time at Third Way you will learn skills in: </p>
  <p>∙ Workflow Management ∙ Leveraging Polarities 
  ∙ Meeting Facilitation and Participation ∙ Parallel Thinking 
  ∙ Dynamic Presentation and Communication ∙ Creativity 
  ∙ Design Thinking ∙ Networking and interview skills </p>
  <p>If you are an ideologically rebellious, fresh-thinking policy wonk willing to listen and learn, we’d like you to join us. </p>
  <p>Apply by March 1, 2017, to start in September 2017. </p>
  <p>If you have any questions, email <a href="mailto:fellowship@thirdway.org">fellowship@thirdway.org</a>.</p><p>If you need an accommodation to participate in this event, please contact the event
                                          event sponsor or the Texas Law Special Events Office at <a href="mailto:specialevents@law.utexas.edu">specialevents@law.utexas.edu</a> no later than seven business days prior to the event.</p>
CATEGORIES:Meeting
LOCATION:TNH 3.122K
URL:http://law.utexas.edu/calendar/2016/10/12/25784/
CLASS:PUBLIC
STATUS:CONFIRMED
COMMENT:Please contact Denyse Demel, Government Career Counselor, at 512-232-1162 or <a href="mailto:ddemel@law.utexas.edu">ddemel@law.utexas.edu</a>
END:VEVENT
END:VCALENDAR