BEGIN:VCALENDAR
VERSION:2.0
PRODID:-//UNIVERSITY OF TEXAS SCHOOL OF LAW//NONSGML Events Calendar v1.0//EN
X-WR-TIMEZONE:America/Chicago
BEGIN:VTIMEZONE
TZID:US/Central
X-LIC-LOCATION:America/Chicago
BEGIN:DAYLIGHT
TZOFFSETFROM:-0600
TZOFFSETTO:-0500
TZNAME:CDT
DTSTART:19700308T020000
RRULE:FREQ=YEARLY;BYMONTH=3;BYDAY=2SU
END:DAYLIGHT
BEGIN:STANDARD
TZOFFSETFROM:-0500
TZOFFSETTO:-0600
TZNAME:CST
DTSTART:19701101T020000
RRULE:FREQ=YEARLY;BYMONTH=11;BYDAY=1SU
END:STANDARD
END:VTIMEZONE
BEGIN:VEVENT
DTSTART;TZID=US/Central:20161013T160000
DTEND;VALUE=DATE-TIME;TZID=US/Central:20161013T180000

DTSTAMP:20260419T213400Z
CREATED:20160719T121200Z
LAST-MODIFIED:20160719T121200Z
UID:20161013T160000-23024@law.utexas.edu
SUMMARY:TJOGEL Law Firm Career Panel
DESCRIPTION:<p>Law firm partners and associates will speak on their experience in the energy industry and answer questions from TJOGEL and Society students. All Journal and Society members are invited to attend. Light refreshments will be served after the panel concludes.</p>\n\nIf you need an accommodation to participate in this event, please contact the event sponsor or the Texas Law Special Events Office at specialevents@law.utexas.edu no later than seven business days prior to the event.
X-ALT-DESC;FMTTYPE=text/html:<p>Law firm partners and associates will speak on their experience in the energy industry and answer questions from TJOGEL and Society students. All Journal and Society members are invited to attend. Light refreshments will be served after the panel concludes.</p><p>If you need an accommodation to participate in this event, please contact the event
                                          event sponsor or the Texas Law Special Events Office at <a href="mailto:specialevents@law.utexas.edu">specialevents@law.utexas.edu</a> no later than seven business days prior to the event.</p>
CATEGORIES:Panel Discussion / Speaker Series
LOCATION:CCJ 2.306 - Eidman Courtroom
URL:http://law.utexas.edu/calendar/2016/10/13/23024/
CLASS:PUBLIC
STATUS:CONFIRMED

END:VEVENT
END:VCALENDAR