BEGIN:VCALENDAR
VERSION:2.0
PRODID:-//UNIVERSITY OF TEXAS SCHOOL OF LAW//NONSGML Events Calendar v1.0//EN
X-WR-TIMEZONE:America/Chicago
BEGIN:VTIMEZONE
TZID:US/Central
X-LIC-LOCATION:America/Chicago
BEGIN:DAYLIGHT
TZOFFSETFROM:-0600
TZOFFSETTO:-0500
TZNAME:CDT
DTSTART:19700308T020000
RRULE:FREQ=YEARLY;BYMONTH=3;BYDAY=2SU
END:DAYLIGHT
BEGIN:STANDARD
TZOFFSETFROM:-0500
TZOFFSETTO:-0600
TZNAME:CST
DTSTART:19701101T020000
RRULE:FREQ=YEARLY;BYMONTH=11;BYDAY=1SU
END:STANDARD
END:VTIMEZONE
BEGIN:VEVENT
DTSTART;TZID=US/Central:20161013T080000
DTEND;VALUE=DATE-TIME;TZID=US/Central:20161013T090000

DTSTAMP:20260419T193500Z
CREATED:20160926T142800Z
LAST-MODIFIED:20161012T033000Z
UID:20161013T080000-25464@law.utexas.edu
SUMMARY:Bible Study with TLWCF
DESCRIPTION:<p>We are studying the book of Ephesians this semester; each week, we will be discussing a new chapter and this week, we are studying chapter three. Breakfast and coffee will be provided!</p>
  <p>Our goal is to create a space for women interested in learning more about Christ through studying and applying God's Word in law school and beyond. Our Bible study is a place for Christian fellowship and encouragement, and women from all Christian faith traditions and denominations are welcome!</p>\n\nIf you need an accommodation to participate in this event, please contact the event sponsor or the Texas Law Special Events Office at specialevents@law.utexas.edu no later than seven business days prior to the event.
X-ALT-DESC;FMTTYPE=text/html:<p>We are studying the book of Ephesians this semester; each week, we will be discussing a new chapter and this week, we are studying chapter three. Breakfast and coffee will be provided!</p>
  <p>Our goal is to create a space for women interested in learning more about Christ through studying and applying God's Word in law school and beyond. Our Bible study is a place for Christian fellowship and encouragement, and women from all Christian faith traditions and denominations are welcome!</p><p>If you need an accommodation to participate in this event, please contact the event
                                          event sponsor or the Texas Law Special Events Office at <a href="mailto:specialevents@law.utexas.edu">specialevents@law.utexas.edu</a> no later than seven business days prior to the event.</p>
CATEGORIES:Other
LOCATION:TNH 3.115 - Bell Seminar Room
URL:http://law.utexas.edu/calendar/2016/10/13/25464/
CLASS:PUBLIC
STATUS:CONFIRMED

END:VEVENT
END:VCALENDAR