BEGIN:VCALENDAR
VERSION:2.0
PRODID:-//UNIVERSITY OF TEXAS SCHOOL OF LAW//NONSGML Events Calendar v1.0//EN
X-WR-TIMEZONE:America/Chicago
BEGIN:VTIMEZONE
TZID:US/Central
X-LIC-LOCATION:America/Chicago
BEGIN:DAYLIGHT
TZOFFSETFROM:-0600
TZOFFSETTO:-0500
TZNAME:CDT
DTSTART:19700308T020000
RRULE:FREQ=YEARLY;BYMONTH=3;BYDAY=2SU
END:DAYLIGHT
BEGIN:STANDARD
TZOFFSETFROM:-0500
TZOFFSETTO:-0600
TZNAME:CST
DTSTART:19701101T020000
RRULE:FREQ=YEARLY;BYMONTH=11;BYDAY=1SU
END:STANDARD
END:VTIMEZONE
BEGIN:VEVENT
DTSTART;TZID=US/Central:20161014T113000
DTEND;VALUE=DATE-TIME;TZID=US/Central:20161014T143000

DTSTAMP:20260419T165200Z
CREATED:20160913T161400Z
LAST-MODIFIED:20160913T161400Z
UID:20161014T113000-25025@law.utexas.edu
SUMMARY:Graduate Conference Lunch Panel
DESCRIPTION:<p>This is the Third Annual Graduate Conference in Public Law! The topic that will be discussed is "Methodologies in Comparative Constitutionalism." Speakers for this special panel will include: Zach Elkins, Anna Fruhstorfer, Gary Jacobsohn.</p>\n\nIf you need an accommodation to participate in this event, please contact the event sponsor or the Texas Law Special Events Office at specialevents@law.utexas.edu no later than seven business days prior to the event. Speakers: Zachary S Elkins, University of Texas, Gary J Jacobsohn, University of Texas, Anna Fruhstorfer, P, Humboldt-Univerität Zu Berlin
X-ALT-DESC;FMTTYPE=text/html:<p>This is the Third Annual Graduate Conference in Public Law! The topic that will be discussed is "Methodologies in Comparative Constitutionalism." Speakers for this special panel will include: Zach Elkins, Anna Fruhstorfer, Gary Jacobsohn.</p><p>If you need an accommodation to participate in this event, please contact the event
                                          event sponsor or the Texas Law Special Events Office at <a href="mailto:specialevents@law.utexas.edu">specialevents@law.utexas.edu</a> no later than seven business days prior to the event.</p> Speakers: Zachary S Elkins, University of Texas, Gary J Jacobsohn, University of Texas, Anna Fruhstorfer, P, Humboldt-Univerität Zu Berlin

LOCATION:JON 5.257 - Seminar Room
URL:http://law.utexas.edu/calendar/2016/10/14/25025/
CLASS:PUBLIC
STATUS:CONFIRMED

END:VEVENT
END:VCALENDAR