BEGIN:VCALENDAR
VERSION:2.0
PRODID:-//UNIVERSITY OF TEXAS SCHOOL OF LAW//NONSGML Events Calendar v1.0//EN
X-WR-TIMEZONE:America/Chicago
BEGIN:VTIMEZONE
TZID:US/Central
X-LIC-LOCATION:America/Chicago
BEGIN:DAYLIGHT
TZOFFSETFROM:-0600
TZOFFSETTO:-0500
TZNAME:CDT
DTSTART:19700308T020000
RRULE:FREQ=YEARLY;BYMONTH=3;BYDAY=2SU
END:DAYLIGHT
BEGIN:STANDARD
TZOFFSETFROM:-0500
TZOFFSETTO:-0600
TZNAME:CST
DTSTART:19701101T020000
RRULE:FREQ=YEARLY;BYMONTH=11;BYDAY=1SU
END:STANDARD
END:VTIMEZONE
BEGIN:VEVENT
DTSTART;TZID=US/Central:20161017T160000
DTEND;VALUE=DATE-TIME;TZID=US/Central:20161017T180000

DTSTAMP:20260419T135400Z
CREATED:20160815T200400Z
LAST-MODIFIED:20160908T202000Z
UID:20161017T160000-23724@law.utexas.edu
SUMMARY:Natural Resources, Rights and Inequality
DESCRIPTION:<p>The Colloquium on Natural Resource Governance, Inequality &amp; Human Rights will address the human rights issues that arise in the context of natural resource extraction and governance, especially in relation to resources such as fossil fuels, minerals and timbers. Natural resource governance is fundamentally about who can decide which resources can be used by whom and about how decision-making around these questions should be undertaken. The outcomes of such decision-making have profound consequences for the distribution of wealth, power, authority and risk exposure at the local, national and international levels. Lectures will examine how persistent inequalities between and within countries pose additional challenges for the realization of human rights in relation to natural resource extraction.</p>\n\nIf you need an accommodation to participate in this event, please contact the event sponsor or the Texas Law Special Events Office at specialevents@law.utexas.edu no later than seven business days prior to the event. Speaker: Patricia Tobón Yagarí, E, National Indigenous Organization of Colombia
X-ALT-DESC;FMTTYPE=text/html:<p>The Colloquium on Natural Resource Governance, Inequality &amp; Human Rights will address the human rights issues that arise in the context of natural resource extraction and governance, especially in relation to resources such as fossil fuels, minerals and timbers. Natural resource governance is fundamentally about who can decide which resources can be used by whom and about how decision-making around these questions should be undertaken. The outcomes of such decision-making have profound consequences for the distribution of wealth, power, authority and risk exposure at the local, national and international levels. Lectures will examine how persistent inequalities between and within countries pose additional challenges for the realization of human rights in relation to natural resource extraction.</p><p>If you need an accommodation to participate in this event, please contact the event
                                          event sponsor or the Texas Law Special Events Office at <a href="mailto:specialevents@law.utexas.edu">specialevents@law.utexas.edu</a> no later than seven business days prior to the event.</p> Speaker: Patricia Tobón Yagarí, E, National Indigenous Organization of Colombia

LOCATION:JON 5.206 - Susman Academic Center, Bryan and Michelle Goolsby Conference Suite (5.206 / 5.207)
URL:http://law.utexas.edu/calendar/2016/10/17/23724/
CLASS:PUBLIC
STATUS:CONFIRMED
COMMENT:Sarah Cline: scline@law.utexas.edu
END:VEVENT
END:VCALENDAR