BEGIN:VCALENDAR
VERSION:2.0
PRODID:-//UNIVERSITY OF TEXAS SCHOOL OF LAW//NONSGML Events Calendar v1.0//EN
X-WR-TIMEZONE:America/Chicago
BEGIN:VTIMEZONE
TZID:US/Central
X-LIC-LOCATION:America/Chicago
BEGIN:DAYLIGHT
TZOFFSETFROM:-0600
TZOFFSETTO:-0500
TZNAME:CDT
DTSTART:19700308T020000
RRULE:FREQ=YEARLY;BYMONTH=3;BYDAY=2SU
END:DAYLIGHT
BEGIN:STANDARD
TZOFFSETFROM:-0500
TZOFFSETTO:-0600
TZNAME:CST
DTSTART:19701101T020000
RRULE:FREQ=YEARLY;BYMONTH=11;BYDAY=1SU
END:STANDARD
END:VTIMEZONE
BEGIN:VEVENT
DTSTART;TZID=US/Central:20161017T114500
DTEND;VALUE=DATE-TIME;TZID=US/Central:20161017T130000

DTSTAMP:20260419T181700Z
CREATED:20161006T004800Z
LAST-MODIFIED:20161012T032600Z
UID:20161017T114500-25944@law.utexas.edu
SUMMARY:Texas School Finance: From SCOTX to the
DESCRIPTION:<p>In May 2016, the Supreme Court of Texas ruled that the state's school finance system met minimum state constitutional standards, rejecting a challenge from over half the state's school districts that contended otherwise. Despite calling for "transformational, top-to-bottom reforms," SCOTX decided that it was not the institution to initiate them. That decision punted the problems of Texas's school finance system to the Texas Legislature, where they will be a top priority in the session beginning in January 2017. </p>
  <p>Join ACS for a discussion of one of the most important policy issues that Texas currently faces. Speakers: 
  - Marisa Bono, lead counsel for the Mexican–American Legal Defense and Education Fund (MALDEF) in the school finance litigation; 
  - Gina Hinojosa, Austin ISD Board President and candidate for Texas House District 49 in Central Austin.
  - Chandra Kling Villanueva, Policy Analyst at the Center for Public Policy Priorities focusing on school finance.
  </p>\n\nIf you need an accommodation to participate in this event, please contact the event sponsor or the Texas Law Special Events Office at specialevents@law.utexas.edu no later than seven business days prior to the event.
X-ALT-DESC;FMTTYPE=text/html:<p>In May 2016, the Supreme Court of Texas ruled that the state's school finance system met minimum state constitutional standards, rejecting a challenge from over half the state's school districts that contended otherwise. Despite calling for "transformational, top-to-bottom reforms," SCOTX decided that it was not the institution to initiate them. That decision punted the problems of Texas's school finance system to the Texas Legislature, where they will be a top priority in the session beginning in January 2017. </p>
  <p>Join ACS for a discussion of one of the most important policy issues that Texas currently faces. Speakers: 
  - Marisa Bono, lead counsel for the Mexican–American Legal Defense and Education Fund (MALDEF) in the school finance litigation; 
  - Gina Hinojosa, Austin ISD Board President and candidate for Texas House District 49 in Central Austin.
  - Chandra Kling Villanueva, Policy Analyst at the Center for Public Policy Priorities focusing on school finance.
  </p><p>If you need an accommodation to participate in this event, please contact the event
                                          event sponsor or the Texas Law Special Events Office at <a href="mailto:specialevents@law.utexas.edu">specialevents@law.utexas.edu</a> no later than seven business days prior to the event.</p>
CATEGORIES:Panel Discussion / Speaker Series
LOCATION:TNH 2.140 - Wright Classroom
URL:http://law.utexas.edu/calendar/2016/10/17/25944/
CLASS:PUBLIC
STATUS:CONFIRMED
COMMENT:Contact utacs.president@gmail.com
END:VEVENT
END:VCALENDAR