BEGIN:VCALENDAR
VERSION:2.0
PRODID:-//UNIVERSITY OF TEXAS SCHOOL OF LAW//NONSGML Events Calendar v1.0//EN
X-WR-TIMEZONE:America/Chicago
BEGIN:VTIMEZONE
TZID:US/Central
X-LIC-LOCATION:America/Chicago
BEGIN:DAYLIGHT
TZOFFSETFROM:-0600
TZOFFSETTO:-0500
TZNAME:CDT
DTSTART:19700308T020000
RRULE:FREQ=YEARLY;BYMONTH=3;BYDAY=2SU
END:DAYLIGHT
BEGIN:STANDARD
TZOFFSETFROM:-0500
TZOFFSETTO:-0600
TZNAME:CST
DTSTART:19701101T020000
RRULE:FREQ=YEARLY;BYMONTH=11;BYDAY=1SU
END:STANDARD
END:VTIMEZONE
BEGIN:VEVENT
DTSTART;TZID=US/Central:20161018T114500
DTEND;VALUE=DATE-TIME;TZID=US/Central:20161018T131500

DTSTAMP:20260419T122200Z
CREATED:20160308T170700Z
LAST-MODIFIED:20161005T172500Z
UID:20161018T114500-21987@law.utexas.edu
SUMMARY:October Power Lunch Series
DESCRIPTION:<p>The Center for Women in Law, through the October Power Lunch Series, seeks to provide students with possible role models and mentors by exposing them to prominent women lawyers and other public figures from a wide range of career paths. Attending students will have the opportunity to ask questions and discuss their own career goals in an informal and interactive environment.</p>
  <p>Series Line-up: TBD</p>\n\nIf you need an accommodation to participate in this event, please contact the event sponsor or the Texas Law Special Events Office at specialevents@law.utexas.edu no later than seven business days prior to the event.
X-ALT-DESC;FMTTYPE=text/html:<p>The Center for Women in Law, through the October Power Lunch Series, seeks to provide students with possible role models and mentors by exposing them to prominent women lawyers and other public figures from a wide range of career paths. Attending students will have the opportunity to ask questions and discuss their own career goals in an informal and interactive environment.</p>
  <p>Series Line-up: TBD</p><p>If you need an accommodation to participate in this event, please contact the event
                                          event sponsor or the Texas Law Special Events Office at <a href="mailto:specialevents@law.utexas.edu">specialevents@law.utexas.edu</a> no later than seven business days prior to the event.</p>

LOCATION:TNH 2.140 - Wright Classroom
URL:http://law.utexas.edu/calendar/2016/10/18/21987/
CLASS:PUBLIC
STATUS:CONFIRMED

END:VEVENT
END:VCALENDAR