BEGIN:VCALENDAR
VERSION:2.0
PRODID:-//UNIVERSITY OF TEXAS SCHOOL OF LAW//NONSGML Events Calendar v1.0//EN
X-WR-TIMEZONE:America/Chicago
BEGIN:VTIMEZONE
TZID:US/Central
X-LIC-LOCATION:America/Chicago
BEGIN:DAYLIGHT
TZOFFSETFROM:-0600
TZOFFSETTO:-0500
TZNAME:CDT
DTSTART:19700308T020000
RRULE:FREQ=YEARLY;BYMONTH=3;BYDAY=2SU
END:DAYLIGHT
BEGIN:STANDARD
TZOFFSETFROM:-0500
TZOFFSETTO:-0600
TZNAME:CST
DTSTART:19701101T020000
RRULE:FREQ=YEARLY;BYMONTH=11;BYDAY=1SU
END:STANDARD
END:VTIMEZONE
BEGIN:VEVENT
DTSTART;TZID=US/Central:20161018T170000
DTEND;VALUE=DATE-TIME;TZID=US/Central:20161018T203000

DTSTAMP:20260419T182700Z
CREATED:20160826T140800Z
LAST-MODIFIED:20160826T140800Z
UID:20161018T170000-24184@law.utexas.edu
SUMMARY:Expunction Work Session
DESCRIPTION:<p>Students will use court records and information provided at expunction intake clinics to draft petitions and orders for expunction or nondisclosure of criminal records. Expunging records allows people to legally deny offenses and erases records from criminal histories, mitigating future harm stemming from arrests that do not result in a criminal conviction. Orders of nondisclosure direct police departments and other agencies not to disclose criminal records on background checks, and allow a person to not disclose offenses on applications for housing or employment</p>\n\nIf you need an accommodation to participate in this event, please contact the event sponsor or the Texas Law Special Events Office at specialevents@law.utexas.edu no later than seven business days prior to the event.
X-ALT-DESC;FMTTYPE=text/html:<p>Students will use court records and information provided at expunction intake clinics to draft petitions and orders for expunction or nondisclosure of criminal records. Expunging records allows people to legally deny offenses and erases records from criminal histories, mitigating future harm stemming from arrests that do not result in a criminal conviction. Orders of nondisclosure direct police departments and other agencies not to disclose criminal records on background checks, and allow a person to not disclose offenses on applications for housing or employment</p><p>If you need an accommodation to participate in this event, please contact the event
                                          event sponsor or the Texas Law Special Events Office at <a href="mailto:specialevents@law.utexas.edu">specialevents@law.utexas.edu</a> no later than seven business days prior to the event.</p>

LOCATION:TNH 2.111 - Sheffield-Massey Room
URL:http://law.utexas.edu/calendar/2016/10/18/24184/
CLASS:PUBLIC
STATUS:CONFIRMED

END:VEVENT
END:VCALENDAR