BEGIN:VCALENDAR
VERSION:2.0
PRODID:-//UNIVERSITY OF TEXAS SCHOOL OF LAW//NONSGML Events Calendar v1.0//EN
X-WR-TIMEZONE:America/Chicago
BEGIN:VTIMEZONE
TZID:US/Central
X-LIC-LOCATION:America/Chicago
BEGIN:DAYLIGHT
TZOFFSETFROM:-0600
TZOFFSETTO:-0500
TZNAME:CDT
DTSTART:19700308T020000
RRULE:FREQ=YEARLY;BYMONTH=3;BYDAY=2SU
END:DAYLIGHT
BEGIN:STANDARD
TZOFFSETFROM:-0500
TZOFFSETTO:-0600
TZNAME:CST
DTSTART:19701101T020000
RRULE:FREQ=YEARLY;BYMONTH=11;BYDAY=1SU
END:STANDARD
END:VTIMEZONE
BEGIN:VEVENT
DTSTART;TZID=US/Central:20161018T114500
DTEND;VALUE=DATE-TIME;TZID=US/Central:20161018T124500

DTSTAMP:20260419T152500Z
CREATED:20160913T142800Z
LAST-MODIFIED:20161017T164900Z
UID:20161018T114500-25005@law.utexas.edu
SUMMARY:Careers in ADR
DESCRIPTION:<p>For all students interested in the wide world of Alternative Dispute Resolution, the Board of Advocates kicks off its 2016 Careers in Advocacy Series with Careers in ADR. Come hear from practitioners and educators, and find out how an education in negotiation, mediation, or arbitration can help boost your career. Panelists include Texas Law Professor Jeff Jury; Ken Davison, Lakeside Mediation Center; and Tom Collins.  </p>
  <p>Lunch will be served. RSVP by MONDAY, October 17, on <a href="https://law-utexas-csm.symplicity.com/students/">Symplicity</a> by selecting the "Events" tab.</p>\n\nIf you need an accommodation to participate in this event, please contact the event sponsor or the Texas Law Special Events Office at specialevents@law.utexas.edu no later than seven business days prior to the event.
X-ALT-DESC;FMTTYPE=text/html:<p>For all students interested in the wide world of Alternative Dispute Resolution, the Board of Advocates kicks off its 2016 Careers in Advocacy Series with Careers in ADR. Come hear from practitioners and educators, and find out how an education in negotiation, mediation, or arbitration can help boost your career. Panelists include Texas Law Professor Jeff Jury; Ken Davison, Lakeside Mediation Center; and Tom Collins.  </p>
  <p>Lunch will be served. RSVP by MONDAY, October 17, on <a href="https://law-utexas-csm.symplicity.com/students/">Symplicity</a> by selecting the "Events" tab.</p><p>If you need an accommodation to participate in this event, please contact the event
                                          event sponsor or the Texas Law Special Events Office at <a href="mailto:specialevents@law.utexas.edu">specialevents@law.utexas.edu</a> no later than seven business days prior to the event.</p>
CATEGORIES:Workshop / Training Program
LOCATION:TNH 3.127 - Roberts Classroom
URL:http://law.utexas.edu/calendar/2016/10/18/25005/
CLASS:PUBLIC
STATUS:CONFIRMED
COMMENT:Please contact our counselor Simone Leavenworth at <a href="mailto:sleavenworth@law.utexas.edu">sleavenworth@law.utexas.edu</a> or call 512-232-1157.
END:VEVENT
END:VCALENDAR