BEGIN:VCALENDAR
VERSION:2.0
PRODID:-//UNIVERSITY OF TEXAS SCHOOL OF LAW//NONSGML Events Calendar v1.0//EN
X-WR-TIMEZONE:America/Chicago
BEGIN:VTIMEZONE
TZID:US/Central
X-LIC-LOCATION:America/Chicago
BEGIN:DAYLIGHT
TZOFFSETFROM:-0600
TZOFFSETTO:-0500
TZNAME:CDT
DTSTART:19700308T020000
RRULE:FREQ=YEARLY;BYMONTH=3;BYDAY=2SU
END:DAYLIGHT
BEGIN:STANDARD
TZOFFSETFROM:-0500
TZOFFSETTO:-0600
TZNAME:CST
DTSTART:19701101T020000
RRULE:FREQ=YEARLY;BYMONTH=11;BYDAY=1SU
END:STANDARD
END:VTIMEZONE
BEGIN:VEVENT
DTSTART;TZID=US/Central:20161018T114500
DTEND;VALUE=DATE-TIME;TZID=US/Central:20161018T130000

DTSTAMP:20260419T194300Z
CREATED:20160914T210400Z
LAST-MODIFIED:20160914T210700Z
UID:20161018T114500-25084@law.utexas.edu
SUMMARY:Ag-Gag Laws and Animal, Environ. Welfare
DESCRIPTION:<p>Judith McGreary, attorney and Executive Director of Farm and Ranch Freedom Alliance, will join the Environmental Law Society to discuss the animal welfare and environmental issues associated with industrial agriculture. Judith will be discussing her role with the FARFA and how Ag-Gag and Right to Farm laws impact her members as animal welfare and sustainable agriculture advocates. Judith will also be discussing the severe consequences of industrial agriculture on water quality and quantity and why water issues need to be a top priority for advocates of sustainable agriculture in the 2017 Legislative Session. </p>\n\nIf you need an accommodation to participate in this event, please contact the event sponsor or the Texas Law Special Events Office at specialevents@law.utexas.edu no later than seven business days prior to the event.
X-ALT-DESC;FMTTYPE=text/html:<p>Judith McGreary, attorney and Executive Director of Farm and Ranch Freedom Alliance, will join the Environmental Law Society to discuss the animal welfare and environmental issues associated with industrial agriculture. Judith will be discussing her role with the FARFA and how Ag-Gag and Right to Farm laws impact her members as animal welfare and sustainable agriculture advocates. Judith will also be discussing the severe consequences of industrial agriculture on water quality and quantity and why water issues need to be a top priority for advocates of sustainable agriculture in the 2017 Legislative Session. </p><p>If you need an accommodation to participate in this event, please contact the event
                                          event sponsor or the Texas Law Special Events Office at <a href="mailto:specialevents@law.utexas.edu">specialevents@law.utexas.edu</a> no later than seven business days prior to the event.</p>
CATEGORIES:Panel Discussion / Speaker Series
LOCATION:TNH 3.129 - Atlas Seminar Room
URL:http://law.utexas.edu/calendar/2016/10/18/25084/
CLASS:PUBLIC
STATUS:CONFIRMED

END:VEVENT
END:VCALENDAR