BEGIN:VCALENDAR
VERSION:2.0
PRODID:-//UNIVERSITY OF TEXAS SCHOOL OF LAW//NONSGML Events Calendar v1.0//EN
X-WR-TIMEZONE:America/Chicago
BEGIN:VTIMEZONE
TZID:US/Central
X-LIC-LOCATION:America/Chicago
BEGIN:DAYLIGHT
TZOFFSETFROM:-0600
TZOFFSETTO:-0500
TZNAME:CDT
DTSTART:19700308T020000
RRULE:FREQ=YEARLY;BYMONTH=3;BYDAY=2SU
END:DAYLIGHT
BEGIN:STANDARD
TZOFFSETFROM:-0500
TZOFFSETTO:-0600
TZNAME:CST
DTSTART:19701101T020000
RRULE:FREQ=YEARLY;BYMONTH=11;BYDAY=1SU
END:STANDARD
END:VTIMEZONE
BEGIN:VEVENT
DTSTART;TZID=US/Central:20161018T154500
DTEND;VALUE=DATE-TIME;TZID=US/Central:20161018T163000

DTSTAMP:20260420T131000Z
CREATED:20161004T164900Z
LAST-MODIFIED:20161004T164900Z
UID:20161018T154500-25884@law.utexas.edu
SUMMARY:Discussion with the DOJ
DESCRIPTION:<p>RSVP by MONDAY, OCTOBER 17. All Texas Law students are invited to learn more about the U.S. Department of Justice from Michael Dreeben, Deputy Solicitor General of the US DOJ. Refreshments will be served. </p>
  <p>RSVP by Monday, October 17 , on <a href="https://law-utexas-csm.symplicity.com/students/"> Symplicity</a> by selecting the "Events" tab.</p>\n\nIf you need an accommodation to participate in this event, please contact the event sponsor or the Texas Law Special Events Office at specialevents@law.utexas.edu no later than seven business days prior to the event.
X-ALT-DESC;FMTTYPE=text/html:<p>RSVP by MONDAY, OCTOBER 17. All Texas Law students are invited to learn more about the U.S. Department of Justice from Michael Dreeben, Deputy Solicitor General of the US DOJ. Refreshments will be served. </p>
  <p>RSVP by Monday, October 17 , on <a href="https://law-utexas-csm.symplicity.com/students/"> Symplicity</a> by selecting the "Events" tab.</p><p>If you need an accommodation to participate in this event, please contact the event
                                          event sponsor or the Texas Law Special Events Office at <a href="mailto:specialevents@law.utexas.edu">specialevents@law.utexas.edu</a> no later than seven business days prior to the event.</p>
CATEGORIES:Workshop / Training Program
LOCATION:CSO Interview Suite
URL:http://law.utexas.edu/calendar/2016/10/18/25884/
CLASS:PUBLIC
STATUS:CONFIRMED
COMMENT:Please contact Denyse Demel, Government Career Counselor, at 512-232-1162 or <a href="mailto:ddemel@law.utexas.edu">ddemel@law.utexas.edu</a>
END:VEVENT
END:VCALENDAR