BEGIN:VCALENDAR
VERSION:2.0
PRODID:-//UNIVERSITY OF TEXAS SCHOOL OF LAW//NONSGML Events Calendar v1.0//EN
X-WR-TIMEZONE:America/Chicago
BEGIN:VTIMEZONE
TZID:US/Central
X-LIC-LOCATION:America/Chicago
BEGIN:DAYLIGHT
TZOFFSETFROM:-0600
TZOFFSETTO:-0500
TZNAME:CDT
DTSTART:19700308T020000
RRULE:FREQ=YEARLY;BYMONTH=3;BYDAY=2SU
END:DAYLIGHT
BEGIN:STANDARD
TZOFFSETFROM:-0500
TZOFFSETTO:-0600
TZNAME:CST
DTSTART:19701101T020000
RRULE:FREQ=YEARLY;BYMONTH=11;BYDAY=1SU
END:STANDARD
END:VTIMEZONE
BEGIN:VEVENT
DTSTART;TZID=US/Central:20161019T153000
DTEND;VALUE=DATE-TIME;TZID=US/Central:20161019T180000

DTSTAMP:20260419T152700Z
CREATED:20161010T044700Z
LAST-MODIFIED:20161018T165300Z
UID:20161019T153000-25984@law.utexas.edu
SUMMARY:Baker &amp;
DESCRIPTION:<p>Attorneys from Baker &amp; McKenzie will present an interactive panel presentation that will provide an overview of the daily responsibilities of a transactional lawyer and how various transactional practice fields intersect with one another. Students will have the opportunity to ask questions and network after the presentation. </p>\n\nIf you need an accommodation to participate in this event, please contact the event sponsor or the Texas Law Special Events Office at specialevents@law.utexas.edu no later than seven business days prior to the event.
X-ALT-DESC;FMTTYPE=text/html:<p>Attorneys from Baker &amp; McKenzie will present an interactive panel presentation that will provide an overview of the daily responsibilities of a transactional lawyer and how various transactional practice fields intersect with one another. Students will have the opportunity to ask questions and network after the presentation. </p><p>If you need an accommodation to participate in this event, please contact the event
                                          event sponsor or the Texas Law Special Events Office at <a href="mailto:specialevents@law.utexas.edu">specialevents@law.utexas.edu</a> no later than seven business days prior to the event.</p>
CATEGORIES:Panel Discussion / Speaker Series
LOCATION:TNH 2.111 - Sheffield-Massey Room
URL:http://law.utexas.edu/calendar/2016/10/19/25984/
CLASS:PUBLIC
STATUS:CONFIRMED

END:VEVENT
END:VCALENDAR