BEGIN:VCALENDAR
VERSION:2.0
PRODID:-//UNIVERSITY OF TEXAS SCHOOL OF LAW//NONSGML Events Calendar v1.0//EN
X-WR-TIMEZONE:America/Chicago
BEGIN:VTIMEZONE
TZID:US/Central
X-LIC-LOCATION:America/Chicago
BEGIN:DAYLIGHT
TZOFFSETFROM:-0600
TZOFFSETTO:-0500
TZNAME:CDT
DTSTART:19700308T020000
RRULE:FREQ=YEARLY;BYMONTH=3;BYDAY=2SU
END:DAYLIGHT
BEGIN:STANDARD
TZOFFSETFROM:-0500
TZOFFSETTO:-0600
TZNAME:CST
DTSTART:19701101T020000
RRULE:FREQ=YEARLY;BYMONTH=11;BYDAY=1SU
END:STANDARD
END:VTIMEZONE
BEGIN:VEVENT
DTSTART;TZID=US/Central:20161020T114500
DTEND;VALUE=DATE-TIME;TZID=US/Central:20161020T124500

DTSTAMP:20260419T181300Z
CREATED:20160615T203200Z
LAST-MODIFIED:20160810T213100Z
UID:20161020T114500-22366@law.utexas.edu
SUMMARY:Judicial Internships
DESCRIPTION:<p>Texas Law students will discuss their summer judicial internship experiences and how they secured their positions. Learn what judicial internships are, what courts have them, and how to apply.</p>
  <p>Summer judicial internships are open to all students, including 1Ls. There are hundreds of summer judicial internship opportunities available throughout the nation and early December is a good time to begin sending out your applications. Three hours of academic credit may be available through the <a href="http://www.utexas.edu/law/centers/publicinterest/judintern/">Judicial Internship Program</a> for summer internships with federal district, federal appellate, and state appellate judges.</p>
  <p>Please RSVP by Wednesday, October 19, on<a href="https://law-utexas-csm.symplicity.com/students/"> Symplicity</a> by selecting the 'Events' tab.</p>\n\nIf you need an accommodation to participate in this event, please contact the event sponsor or the Texas Law Special Events Office at specialevents@law.utexas.edu no later than seven business days prior to the event.
X-ALT-DESC;FMTTYPE=text/html:<p>Texas Law students will discuss their summer judicial internship experiences and how they secured their positions. Learn what judicial internships are, what courts have them, and how to apply.</p>
  <p>Summer judicial internships are open to all students, including 1Ls. There are hundreds of summer judicial internship opportunities available throughout the nation and early December is a good time to begin sending out your applications. Three hours of academic credit may be available through the <a href="http://www.utexas.edu/law/centers/publicinterest/judintern/">Judicial Internship Program</a> for summer internships with federal district, federal appellate, and state appellate judges.</p>
  <p>Please RSVP by Wednesday, October 19, on<a href="https://law-utexas-csm.symplicity.com/students/"> Symplicity</a> by selecting the 'Events' tab.</p><p>If you need an accommodation to participate in this event, please contact the event
                                          event sponsor or the Texas Law Special Events Office at <a href="mailto:specialevents@law.utexas.edu">specialevents@law.utexas.edu</a> no later than seven business days prior to the event.</p>
CATEGORIES:Workshop / Training Program
LOCATION:TNH 2.140 - Wright Classroom
URL:http://law.utexas.edu/calendar/2016/10/20/22366/
CLASS:PUBLIC
STATUS:CONFIRMED
COMMENT:Please contact Shavonne Henderson, Career Counselor, at 512-232-1163 or <a href="mailto:shenderson@law.utexas.edu">shenderson@law.utexas.edu</a>.
END:VEVENT
END:VCALENDAR