BEGIN:VCALENDAR
VERSION:2.0
PRODID:-//UNIVERSITY OF TEXAS SCHOOL OF LAW//NONSGML Events Calendar v1.0//EN
X-WR-TIMEZONE:America/Chicago
BEGIN:VTIMEZONE
TZID:US/Central
X-LIC-LOCATION:America/Chicago
BEGIN:DAYLIGHT
TZOFFSETFROM:-0600
TZOFFSETTO:-0500
TZNAME:CDT
DTSTART:19700308T020000
RRULE:FREQ=YEARLY;BYMONTH=3;BYDAY=2SU
END:DAYLIGHT
BEGIN:STANDARD
TZOFFSETFROM:-0500
TZOFFSETTO:-0600
TZNAME:CST
DTSTART:19701101T020000
RRULE:FREQ=YEARLY;BYMONTH=11;BYDAY=1SU
END:STANDARD
END:VTIMEZONE
BEGIN:VEVENT
DTSTART;TZID=US/Central:20161020T080000
DTEND;VALUE=DATE-TIME;TZID=US/Central:20161020T120000

DTSTAMP:20260419T181800Z
CREATED:20161012T152900Z
LAST-MODIFIED:20161012T152900Z
UID:20161020T080000-26125@law.utexas.edu
SUMMARY:Conflict Resolution Day
DESCRIPTION:<p>   The Center for Public Policy Dispute Resolution will be hosting a table in honor of Conflict Resolution Day. There will be information for students, staff and faculty about conflict resolution services available on campus. And donuts!
     Conflict Resolution Day was created in 2005 by ACR (the Association for Conflict Resolution) to promote awareness of ways that you can resolve conflict. 
  Conflict Resolution Day:
  •	Promotes awareness of mediation, arbitration, conciliation and other creative, peaceful means of resolving conflict; 
  •	Promotes the use of conflict resolution in schools, families, businesses, communities, governments and the legal system; 
  •	Recognizes the significant contributions of (peaceful) conflict resolvers; and 
  •	Obtains national synergy by having celebrations happen across the country and around the world on the same day.</p>\n\nIf you need an accommodation to participate in this event, please contact the event sponsor or the Texas Law Special Events Office at specialevents@law.utexas.edu no later than seven business days prior to the event.
X-ALT-DESC;FMTTYPE=text/html:<p>   The Center for Public Policy Dispute Resolution will be hosting a table in honor of Conflict Resolution Day. There will be information for students, staff and faculty about conflict resolution services available on campus. And donuts!
     Conflict Resolution Day was created in 2005 by ACR (the Association for Conflict Resolution) to promote awareness of ways that you can resolve conflict. 
  Conflict Resolution Day:
  •	Promotes awareness of mediation, arbitration, conciliation and other creative, peaceful means of resolving conflict; 
  •	Promotes the use of conflict resolution in schools, families, businesses, communities, governments and the legal system; 
  •	Recognizes the significant contributions of (peaceful) conflict resolvers; and 
  •	Obtains national synergy by having celebrations happen across the country and around the world on the same day.</p><p>If you need an accommodation to participate in this event, please contact the event
                                          event sponsor or the Texas Law Special Events Office at <a href="mailto:specialevents@law.utexas.edu">specialevents@law.utexas.edu</a> no later than seven business days prior to the event.</p>
CATEGORIES:Other
LOCATION:TNH 2.100 - Susman Godfrey Atrium
URL:http://law.utexas.edu/calendar/2016/10/20/26125/
CLASS:PUBLIC
STATUS:CONFIRMED

END:VEVENT
END:VCALENDAR