BEGIN:VCALENDAR
VERSION:2.0
PRODID:-//UNIVERSITY OF TEXAS SCHOOL OF LAW//NONSGML Events Calendar v1.0//EN
X-WR-TIMEZONE:America/Chicago
BEGIN:VTIMEZONE
TZID:US/Central
X-LIC-LOCATION:America/Chicago
BEGIN:DAYLIGHT
TZOFFSETFROM:-0600
TZOFFSETTO:-0500
TZNAME:CDT
DTSTART:19700308T020000
RRULE:FREQ=YEARLY;BYMONTH=3;BYDAY=2SU
END:DAYLIGHT
BEGIN:STANDARD
TZOFFSETFROM:-0500
TZOFFSETTO:-0600
TZNAME:CST
DTSTART:19701101T020000
RRULE:FREQ=YEARLY;BYMONTH=11;BYDAY=1SU
END:STANDARD
END:VTIMEZONE
BEGIN:VEVENT
DTSTART;TZID=US/Central:20161020T120000
DTEND;VALUE=DATE-TIME;TZID=US/Central:20161020T124500

DTSTAMP:20260420T131000Z
CREATED:20161017T200100Z
LAST-MODIFIED:20161017T200200Z
UID:20161020T120000-26244@law.utexas.edu
SUMMARY:Coffee &amp; Conversation
DESCRIPTION:<p>HRLS will be hosting its first coffee and conversation event of this semester is with Amanda Woog, JD, of The Texas Justice Initiative. The Initiative seeks to build narratives around who is dying in the Texas criminal justice system, bring attention to the lives that have been lost, and provide a foundation for research toward solutions that will save lives. Amanda is currently researching and tracking officer-involved shootings and custodial deaths in Texas, and will lead us in a discussion on the intersections of gender and criminal justice. </p>
  <p>Free coffee and snacks will be provided! </p>
  <p>Date:  Thursday, October 20, 2016
  Time:  12:00pm
  Location:  TNH 2.124</p>\n\nIf you need an accommodation to participate in this event, please contact the event sponsor or the Texas Law Special Events Office at specialevents@law.utexas.edu no later than seven business days prior to the event.
X-ALT-DESC;FMTTYPE=text/html:<p>HRLS will be hosting its first coffee and conversation event of this semester is with Amanda Woog, JD, of The Texas Justice Initiative. The Initiative seeks to build narratives around who is dying in the Texas criminal justice system, bring attention to the lives that have been lost, and provide a foundation for research toward solutions that will save lives. Amanda is currently researching and tracking officer-involved shootings and custodial deaths in Texas, and will lead us in a discussion on the intersections of gender and criminal justice. </p>
  <p>Free coffee and snacks will be provided! </p>
  <p>Date:  Thursday, October 20, 2016
  Time:  12:00pm
  Location:  TNH 2.124</p><p>If you need an accommodation to participate in this event, please contact the event
                                          event sponsor or the Texas Law Special Events Office at <a href="mailto:specialevents@law.utexas.edu">specialevents@law.utexas.edu</a> no later than seven business days prior to the event.</p>

LOCATION:TNH 2.124 - Reaud Classroom
URL:http://law.utexas.edu/calendar/2016/10/20/26244/
CLASS:PUBLIC
STATUS:CONFIRMED

END:VEVENT
END:VCALENDAR