BEGIN:VCALENDAR
VERSION:2.0
PRODID:-//UNIVERSITY OF TEXAS SCHOOL OF LAW//NONSGML Events Calendar v1.0//EN
X-WR-TIMEZONE:America/Chicago
BEGIN:VTIMEZONE
TZID:US/Central
X-LIC-LOCATION:America/Chicago
BEGIN:DAYLIGHT
TZOFFSETFROM:-0600
TZOFFSETTO:-0500
TZNAME:CDT
DTSTART:19700308T020000
RRULE:FREQ=YEARLY;BYMONTH=3;BYDAY=2SU
END:DAYLIGHT
BEGIN:STANDARD
TZOFFSETFROM:-0500
TZOFFSETTO:-0600
TZNAME:CST
DTSTART:19701101T020000
RRULE:FREQ=YEARLY;BYMONTH=11;BYDAY=1SU
END:STANDARD
END:VTIMEZONE
BEGIN:VEVENT
DTSTART;TZID=US/Central:20161025T114500
DTEND;VALUE=DATE-TIME;TZID=US/Central:20161025T130000

DTSTAMP:20260419T152600Z
CREATED:20160608T141900Z
LAST-MODIFIED:20161017T154800Z
UID:20161025T114500-22306@law.utexas.edu
SUMMARY:Pro Bono before the Supreme Court
DESCRIPTION:<p>Pro Bono before the Supreme Court:
  Ivy v. Morath and Deaf Access to Driver Education and Licensing</p>
  <p>Tuesday, October 25
  11:45 am – 1 pm
  TNH 2.138</p>
  <p>The U.S. Supreme Court currently is considering Ivy v. Morath, a case that challenges Texas’s failure to require providers of state-mandated driver education courses to make their programming accessible to the deaf. Individuals under age 25 cannot obtain a Texas driver’s license without completing a driver education course, so the lack of accessible driver education programming limits young deaf people’s ability to drive legally in Texas. </p>
  <p>Pro bono lawyers played a lead role in bringing this case before the Court. In honor of the American Bar Association’s National Pro Bono Celebration, the Mithoff Pro Bono Program is hosting the following panelists for a lunch event on Ivy v. Morath:</p>
  <p>•	Joe T. Sanders ’05, Partner, Sanders Bajwa, Pro Bono Counsel for Petitioners
  •	Olga Kobzar ’10, Partner, Scott Douglass &amp; McConnico, Pro Bono Counsel for Petitioners
  •	Mimi Marziani, Executive Director, Texas Civil Rights Project, Counsel for Petitioners
  •	Paul Genender, Partner, Weil Gotshal &amp; Manges, Pro Bono Counsel for Law Professors as Amici Curiae in Ivy v. Morath
  •	Donna Valverde-Hummel, Legislative Liaison and Advocate, Texas Association of the Deaf </p>
  <p>Professor Lucy Wood, one of the law professors on the amicus brief filed by Weil Gotshal, will moderate. 
  </p>\n\nIf you need an accommodation to participate in this event, please contact the event sponsor or the Texas Law Special Events Office at specialevents@law.utexas.edu no later than seven business days prior to the event.
X-ALT-DESC;FMTTYPE=text/html:<p>Pro Bono before the Supreme Court:
  Ivy v. Morath and Deaf Access to Driver Education and Licensing</p>
  <p>Tuesday, October 25
  11:45 am – 1 pm
  TNH 2.138</p>
  <p>The U.S. Supreme Court currently is considering Ivy v. Morath, a case that challenges Texas’s failure to require providers of state-mandated driver education courses to make their programming accessible to the deaf. Individuals under age 25 cannot obtain a Texas driver’s license without completing a driver education course, so the lack of accessible driver education programming limits young deaf people’s ability to drive legally in Texas. </p>
  <p>Pro bono lawyers played a lead role in bringing this case before the Court. In honor of the American Bar Association’s National Pro Bono Celebration, the Mithoff Pro Bono Program is hosting the following panelists for a lunch event on Ivy v. Morath:</p>
  <p>•	Joe T. Sanders ’05, Partner, Sanders Bajwa, Pro Bono Counsel for Petitioners
  •	Olga Kobzar ’10, Partner, Scott Douglass &amp; McConnico, Pro Bono Counsel for Petitioners
  •	Mimi Marziani, Executive Director, Texas Civil Rights Project, Counsel for Petitioners
  •	Paul Genender, Partner, Weil Gotshal &amp; Manges, Pro Bono Counsel for Law Professors as Amici Curiae in Ivy v. Morath
  •	Donna Valverde-Hummel, Legislative Liaison and Advocate, Texas Association of the Deaf </p>
  <p>Professor Lucy Wood, one of the law professors on the amicus brief filed by Weil Gotshal, will moderate. 
  </p><p>If you need an accommodation to participate in this event, please contact the event
                                          event sponsor or the Texas Law Special Events Office at <a href="mailto:specialevents@law.utexas.edu">specialevents@law.utexas.edu</a> no later than seven business days prior to the event.</p>

LOCATION:TNH 2.138 - Blanton Classroom
URL:http://law.utexas.edu/calendar/2016/10/25/22306/
CLASS:PUBLIC
STATUS:CONFIRMED

END:VEVENT
END:VCALENDAR