BEGIN:VCALENDAR
VERSION:2.0
PRODID:-//UNIVERSITY OF TEXAS SCHOOL OF LAW//NONSGML Events Calendar v1.0//EN
X-WR-TIMEZONE:America/Chicago
BEGIN:VTIMEZONE
TZID:US/Central
X-LIC-LOCATION:America/Chicago
BEGIN:DAYLIGHT
TZOFFSETFROM:-0600
TZOFFSETTO:-0500
TZNAME:CDT
DTSTART:19700308T020000
RRULE:FREQ=YEARLY;BYMONTH=3;BYDAY=2SU
END:DAYLIGHT
BEGIN:STANDARD
TZOFFSETFROM:-0500
TZOFFSETTO:-0600
TZNAME:CST
DTSTART:19701101T020000
RRULE:FREQ=YEARLY;BYMONTH=11;BYDAY=1SU
END:STANDARD
END:VTIMEZONE
BEGIN:VEVENT
DTSTART;TZID=US/Central:20161025T180000
DTEND;VALUE=DATE-TIME;TZID=US/Central:20161025T210000

DTSTAMP:20260419T122100Z
CREATED:20160923T132100Z
LAST-MODIFIED:20160923T132100Z
UID:20161025T180000-25404@law.utexas.edu
SUMMARY:L.A. Networking Happy Hour
DESCRIPTION:<p>Los Angeles Networking Happy Hour for
  Alumni of the University of Texas Law School and
  McCombs School of Business </p>
  <p>Tuesday, October 25, 2016
  6:00 p.m. – 9:00 p.m.
  Above Sixty Beverly Hills
  9360 Wilshire Blvd.
  Beverly Hills, California</p>
  <p>Please register by October 23 at 
  <a href="http://law.connect.utexas.edu/LALawMcCombs15">http://law.connect.utexas.edu/LALawMcCombs16</a>
  </p>\n\nIf you need an accommodation to participate in this event, please contact the event sponsor or the Texas Law Special Events Office at specialevents@law.utexas.edu no later than seven business days prior to the event.
X-ALT-DESC;FMTTYPE=text/html:<p>Los Angeles Networking Happy Hour for
  Alumni of the University of Texas Law School and
  McCombs School of Business </p>
  <p>Tuesday, October 25, 2016
  6:00 p.m. – 9:00 p.m.
  Above Sixty Beverly Hills
  9360 Wilshire Blvd.
  Beverly Hills, California</p>
  <p>Please register by October 23 at 
  <a href="http://law.connect.utexas.edu/LALawMcCombs15">http://law.connect.utexas.edu/LALawMcCombs16</a>
  </p><p>If you need an accommodation to participate in this event, please contact the event
                                          event sponsor or the Texas Law Special Events Office at <a href="mailto:specialevents@law.utexas.edu">specialevents@law.utexas.edu</a> no later than seven business days prior to the event.</p>


URL:http://law.utexas.edu/calendar/2016/10/25/25404/
CLASS:PUBLIC
STATUS:CONFIRMED

END:VEVENT
END:VCALENDAR