BEGIN:VCALENDAR
VERSION:2.0
PRODID:-//UNIVERSITY OF TEXAS SCHOOL OF LAW//NONSGML Events Calendar v1.0//EN
X-WR-TIMEZONE:America/Chicago
BEGIN:VTIMEZONE
TZID:US/Central
X-LIC-LOCATION:America/Chicago
BEGIN:DAYLIGHT
TZOFFSETFROM:-0600
TZOFFSETTO:-0500
TZNAME:CDT
DTSTART:19700308T020000
RRULE:FREQ=YEARLY;BYMONTH=3;BYDAY=2SU
END:DAYLIGHT
BEGIN:STANDARD
TZOFFSETFROM:-0500
TZOFFSETTO:-0600
TZNAME:CST
DTSTART:19701101T020000
RRULE:FREQ=YEARLY;BYMONTH=11;BYDAY=1SU
END:STANDARD
END:VTIMEZONE
BEGIN:VEVENT
DTSTART;TZID=US/Central:20161027T110000
DTEND;VALUE=DATE-TIME;TZID=US/Central:20161027T130000

DTSTAMP:20260419T152600Z
CREATED:20160608T142600Z
LAST-MODIFIED:20161020T194600Z
UID:20161027T110000-22307@law.utexas.edu
SUMMARY:Pro Booo-no Week Party
DESCRIPTION:<p>Pro Booo-no Week Party: Celebrate Pro Booo-no Week in the atrium with the Mithoff Pro Bono Program. We’ll have Halloween treats and games, and we’ll be collecting Pro Bono in January applications. PBinJ applications are due by 5pm on Thursday, Oct. 27.</p>\n\nIf you need an accommodation to participate in this event, please contact the event sponsor or the Texas Law Special Events Office at specialevents@law.utexas.edu no later than seven business days prior to the event.
X-ALT-DESC;FMTTYPE=text/html:<p>Pro Booo-no Week Party: Celebrate Pro Booo-no Week in the atrium with the Mithoff Pro Bono Program. We’ll have Halloween treats and games, and we’ll be collecting Pro Bono in January applications. PBinJ applications are due by 5pm on Thursday, Oct. 27.</p><p>If you need an accommodation to participate in this event, please contact the event
                                          event sponsor or the Texas Law Special Events Office at <a href="mailto:specialevents@law.utexas.edu">specialevents@law.utexas.edu</a> no later than seven business days prior to the event.</p>

LOCATION:TNH 2.100 - Susman Godfrey Atrium
URL:http://law.utexas.edu/calendar/2016/10/27/22307/
CLASS:PUBLIC
STATUS:CONFIRMED

END:VEVENT
END:VCALENDAR