BEGIN:VCALENDAR
VERSION:2.0
PRODID:-//UNIVERSITY OF TEXAS SCHOOL OF LAW//NONSGML Events Calendar v1.0//EN
X-WR-TIMEZONE:America/Chicago
BEGIN:VTIMEZONE
TZID:US/Central
X-LIC-LOCATION:America/Chicago
BEGIN:DAYLIGHT
TZOFFSETFROM:-0600
TZOFFSETTO:-0500
TZNAME:CDT
DTSTART:19700308T020000
RRULE:FREQ=YEARLY;BYMONTH=3;BYDAY=2SU
END:DAYLIGHT
BEGIN:STANDARD
TZOFFSETFROM:-0500
TZOFFSETTO:-0600
TZNAME:CST
DTSTART:19701101T020000
RRULE:FREQ=YEARLY;BYMONTH=11;BYDAY=1SU
END:STANDARD
END:VTIMEZONE
BEGIN:VEVENT
DTSTART;TZID=US/Central:20161027T170000
DTEND;VALUE=DATE-TIME;TZID=US/Central:20161027T180000

DTSTAMP:20260419T193800Z
CREATED:20160913T190900Z
LAST-MODIFIED:20160913T192400Z
UID:20161027T170000-25044@law.utexas.edu
SUMMARY:Speed Networking
DESCRIPTION:<p>Sign-up is at 9:00 p.m. WEDNESDAY, OCTOBER 12, on <a href="https://law-utexas-csm.symplicity.com/students/"> Symplicity</a> by selecting the "Events" tab and is on a first-come, first-served basis as space is limited.</p>
  <p>Back by popular demand! Participating Texas Law J.D. students will have the opportunity to network one-on-one with legal professionals from a variety of practice areas during several short (8-10 minutes) speed networking rounds prior to Cocktails &amp; Conversation at 6:00 p.m. We request that students commit to attend the entire speed networking portion of the event. Please arrive no later than 5:00 p.m. Dress is business casual.</p>
  <p>Alumni: for more information, contact SooYeon Kim at  <a href="mailto:skim@law.utexas.edu">skim@law.utexas.edu</a>.</p>\n\nIf you need an accommodation to participate in this event, please contact the event sponsor or the Texas Law Special Events Office at specialevents@law.utexas.edu no later than seven business days prior to the event.
X-ALT-DESC;FMTTYPE=text/html:<p>Sign-up is at 9:00 p.m. WEDNESDAY, OCTOBER 12, on <a href="https://law-utexas-csm.symplicity.com/students/"> Symplicity</a> by selecting the "Events" tab and is on a first-come, first-served basis as space is limited.</p>
  <p>Back by popular demand! Participating Texas Law J.D. students will have the opportunity to network one-on-one with legal professionals from a variety of practice areas during several short (8-10 minutes) speed networking rounds prior to Cocktails &amp; Conversation at 6:00 p.m. We request that students commit to attend the entire speed networking portion of the event. Please arrive no later than 5:00 p.m. Dress is business casual.</p>
  <p>Alumni: for more information, contact SooYeon Kim at  <a href="mailto:skim@law.utexas.edu">skim@law.utexas.edu</a>.</p><p>If you need an accommodation to participate in this event, please contact the event
                                          event sponsor or the Texas Law Special Events Office at <a href="mailto:specialevents@law.utexas.edu">specialevents@law.utexas.edu</a> no later than seven business days prior to the event.</p>
CATEGORIES:Workshop / Training Program
LOCATION:Alumni Center
URL:http://law.utexas.edu/calendar/2016/10/27/25044/
CLASS:PUBLIC
STATUS:CONFIRMED
COMMENT:Please contact SooYeon Kim, Events Specialist, at 512-232-1151 or <a href="mailto:skim@law.utexas.edu">skim@law.utexas.edu</a>
END:VEVENT
END:VCALENDAR