BEGIN:VCALENDAR
VERSION:2.0
PRODID:-//UNIVERSITY OF TEXAS SCHOOL OF LAW//NONSGML Events Calendar v1.0//EN
X-WR-TIMEZONE:America/Chicago
BEGIN:VTIMEZONE
TZID:US/Central
X-LIC-LOCATION:America/Chicago
BEGIN:DAYLIGHT
TZOFFSETFROM:-0600
TZOFFSETTO:-0500
TZNAME:CDT
DTSTART:19700308T020000
RRULE:FREQ=YEARLY;BYMONTH=3;BYDAY=2SU
END:DAYLIGHT
BEGIN:STANDARD
TZOFFSETFROM:-0500
TZOFFSETTO:-0600
TZNAME:CST
DTSTART:19701101T020000
RRULE:FREQ=YEARLY;BYMONTH=11;BYDAY=1SU
END:STANDARD
END:VTIMEZONE
BEGIN:VEVENT
DTSTART;TZID=US/Central:20161027T180000
DTEND;VALUE=DATE-TIME;TZID=US/Central:20161027T193000

DTSTAMP:20260419T193800Z
CREATED:20160913T191200Z
LAST-MODIFIED:20160913T203200Z
UID:20161027T180000-25045@law.utexas.edu
SUMMARY:Cocktails &amp; Conversation
DESCRIPTION:<p>All Texas Law students are invited to attend the 19th Annual Cocktails &amp; Conversation networking reception, which provides the perfect opportunity to meet and network in a casual setting with Texas Law alumni and friends. This is a great way to expand your network, so don’t miss out! Dress is business casual. RSVP by Wednesday, October 26, on <a href="https://law-utexas-csm.symplicity.com/students/">Symplicity</a> by selecting the "Events" tab.</p>
  <p>Alumni: Please RSVP to SooYeon Kim at <a href="mailto:skim@law.utexas.edu">skim@law.utexas.edu</a>.</p>\n\nIf you need an accommodation to participate in this event, please contact the event sponsor or the Texas Law Special Events Office at specialevents@law.utexas.edu no later than seven business days prior to the event.
X-ALT-DESC;FMTTYPE=text/html:<p>All Texas Law students are invited to attend the 19th Annual Cocktails &amp; Conversation networking reception, which provides the perfect opportunity to meet and network in a casual setting with Texas Law alumni and friends. This is a great way to expand your network, so don’t miss out! Dress is business casual. RSVP by Wednesday, October 26, on <a href="https://law-utexas-csm.symplicity.com/students/">Symplicity</a> by selecting the "Events" tab.</p>
  <p>Alumni: Please RSVP to SooYeon Kim at <a href="mailto:skim@law.utexas.edu">skim@law.utexas.edu</a>.</p><p>If you need an accommodation to participate in this event, please contact the event
                                          event sponsor or the Texas Law Special Events Office at <a href="mailto:specialevents@law.utexas.edu">specialevents@law.utexas.edu</a> no later than seven business days prior to the event.</p>
CATEGORIES:Reception
LOCATION:Alumni Center
URL:http://law.utexas.edu/calendar/2016/10/27/25045/
CLASS:PUBLIC
STATUS:CONFIRMED
COMMENT:Please contact SooYeon Kim, Events Specialist, at 512-232-1151 or <a href="mailto:skim@law.utexas.edu">skim@law.utexas.edu</a>
END:VEVENT
END:VCALENDAR