BEGIN:VCALENDAR
VERSION:2.0
PRODID:-//UNIVERSITY OF TEXAS SCHOOL OF LAW//NONSGML Events Calendar v1.0//EN
X-WR-TIMEZONE:America/Chicago
BEGIN:VTIMEZONE
TZID:US/Central
X-LIC-LOCATION:America/Chicago
BEGIN:DAYLIGHT
TZOFFSETFROM:-0600
TZOFFSETTO:-0500
TZNAME:CDT
DTSTART:19700308T020000
RRULE:FREQ=YEARLY;BYMONTH=3;BYDAY=2SU
END:DAYLIGHT
BEGIN:STANDARD
TZOFFSETFROM:-0500
TZOFFSETTO:-0600
TZNAME:CST
DTSTART:19701101T020000
RRULE:FREQ=YEARLY;BYMONTH=11;BYDAY=1SU
END:STANDARD
END:VTIMEZONE
BEGIN:VEVENT
DTSTART;TZID=US/Central:20161027T123000
DTEND;VALUE=DATE-TIME;TZID=US/Central:20161027T143000

DTSTAMP:20260420T131000Z
CREATED:20161018T120000Z
LAST-MODIFIED:20161018T120000Z
UID:20161027T123000-26264@law.utexas.edu
SUMMARY:Interactive Discussion on Ag-Gag Laws
DESCRIPTION:<p>Join UT Law's SALDF chapter for a watch party on campus. Lunch will be provided. 
  Executive Director Stephen Wells and Senior Staff Attorney Matthew Liebman are taking to Facebook for a live, interactive discussion about Ag-Gag laws. These laws are designed to ‘gag’ would-be whistleblowers and undercover investigators by punishing them for recording and disseminating footage of what really goes on in animal agriculture. Join us to learn how the Animal Legal Defense Fund is fighting these laws and advocating for animals, and to ask your own questions about Ag-Gag laws.</p>\n\nIf you need an accommodation to participate in this event, please contact the event sponsor or the Texas Law Special Events Office at specialevents@law.utexas.edu no later than seven business days prior to the event.
X-ALT-DESC;FMTTYPE=text/html:<p>Join UT Law's SALDF chapter for a watch party on campus. Lunch will be provided. 
  Executive Director Stephen Wells and Senior Staff Attorney Matthew Liebman are taking to Facebook for a live, interactive discussion about Ag-Gag laws. These laws are designed to ‘gag’ would-be whistleblowers and undercover investigators by punishing them for recording and disseminating footage of what really goes on in animal agriculture. Join us to learn how the Animal Legal Defense Fund is fighting these laws and advocating for animals, and to ask your own questions about Ag-Gag laws.</p><p>If you need an accommodation to participate in this event, please contact the event
                                          event sponsor or the Texas Law Special Events Office at <a href="mailto:specialevents@law.utexas.edu">specialevents@law.utexas.edu</a> no later than seven business days prior to the event.</p>

LOCATION:JON 5.257 - Seminar Room
URL:http://law.utexas.edu/calendar/2016/10/27/26264/
CLASS:PUBLIC
STATUS:CONFIRMED

END:VEVENT
END:VCALENDAR