BEGIN:VCALENDAR
VERSION:2.0
PRODID:-//UNIVERSITY OF TEXAS SCHOOL OF LAW//NONSGML Events Calendar v1.0//EN
X-WR-TIMEZONE:America/Chicago
BEGIN:VTIMEZONE
TZID:US/Central
X-LIC-LOCATION:America/Chicago
BEGIN:DAYLIGHT
TZOFFSETFROM:-0600
TZOFFSETTO:-0500
TZNAME:CDT
DTSTART:19700308T020000
RRULE:FREQ=YEARLY;BYMONTH=3;BYDAY=2SU
END:DAYLIGHT
BEGIN:STANDARD
TZOFFSETFROM:-0500
TZOFFSETTO:-0600
TZNAME:CST
DTSTART:19701101T020000
RRULE:FREQ=YEARLY;BYMONTH=11;BYDAY=1SU
END:STANDARD
END:VTIMEZONE
BEGIN:VEVENT
DTSTART;TZID=US/Central:20161028T140000
DTEND;VALUE=DATE-TIME;TZID=US/Central:20161028T150000

DTSTAMP:20260419T181700Z
CREATED:20160513T170400Z
LAST-MODIFIED:20160513T170400Z
UID:20161028T140000-22172@law.utexas.edu
SUMMARY:Judicial Clerkship Workshop: Cover Ltrs
DESCRIPTION:<p>The Judicial Clerkship Program will hold a workshop each Friday afternoon from October 21-November 11. The workshops are for students to come and receive instruction and personalized feedback on how to craft the most effective resume and cover letters for their judicial clerkship applications. The October 21 and November 4 dates will focus on resumes. The October 28 and November 11 dates will focus on cover letters. The workshops are open to all 2Ls and 3Ls. Students should bring their laptops.</p>\n\nIf you need an accommodation to participate in this event, please contact the event sponsor or the Texas Law Special Events Office at specialevents@law.utexas.edu no later than seven business days prior to the event.
X-ALT-DESC;FMTTYPE=text/html:<p>The Judicial Clerkship Program will hold a workshop each Friday afternoon from October 21-November 11. The workshops are for students to come and receive instruction and personalized feedback on how to craft the most effective resume and cover letters for their judicial clerkship applications. The October 21 and November 4 dates will focus on resumes. The October 28 and November 11 dates will focus on cover letters. The workshops are open to all 2Ls and 3Ls. Students should bring their laptops.</p><p>If you need an accommodation to participate in this event, please contact the event
                                          event sponsor or the Texas Law Special Events Office at <a href="mailto:specialevents@law.utexas.edu">specialevents@law.utexas.edu</a> no later than seven business days prior to the event.</p>
CATEGORIES:Other
LOCATION:TNH 2.123 - Beck Classroom
URL:http://law.utexas.edu/calendar/2016/10/28/22172/
CLASS:PUBLIC
STATUS:CONFIRMED
COMMENT:clerk-admin@law.utexas.edu
END:VEVENT
END:VCALENDAR