BEGIN:VCALENDAR
VERSION:2.0
PRODID:-//UNIVERSITY OF TEXAS SCHOOL OF LAW//NONSGML Events Calendar v1.0//EN
X-WR-TIMEZONE:America/Chicago
BEGIN:VTIMEZONE
TZID:US/Central
X-LIC-LOCATION:America/Chicago
BEGIN:DAYLIGHT
TZOFFSETFROM:-0600
TZOFFSETTO:-0500
TZNAME:CDT
DTSTART:19700308T020000
RRULE:FREQ=YEARLY;BYMONTH=3;BYDAY=2SU
END:DAYLIGHT
BEGIN:STANDARD
TZOFFSETFROM:-0500
TZOFFSETTO:-0600
TZNAME:CST
DTSTART:19701101T020000
RRULE:FREQ=YEARLY;BYMONTH=11;BYDAY=1SU
END:STANDARD
END:VTIMEZONE
BEGIN:VEVENT
DTSTART;TZID=US/Central:20161028T220000
DTEND;VALUE=DATE-TIME;TZID=US/Central:20161029T020000

DTSTAMP:20260420T131000Z
CREATED:20160830T215600Z
LAST-MODIFIED:20160928T225400Z
UID:20161028T220000-24444@law.utexas.edu
SUMMARY:Ex Parte
DESCRIPTION:<p>Join the Student Bar Association for our annual Halloween bash on Friday, October 28th at The Ranch (710 W 6th St., Austin, Texas 78701)! There will be a costume contest, prizes, food, drinks, and a DJ! Complimentary buses will be available between 10pm and 2am to take you to and from the Law School and The Ranch. 21+ only. </p>
  <p>Tickets will go on sale Monday, October 25th in the Atrium!
  If you have any questions, email texas.sba@gmail.com.</p>\n\nIf you need an accommodation to participate in this event, please contact the event sponsor or the Texas Law Special Events Office at specialevents@law.utexas.edu no later than seven business days prior to the event.
X-ALT-DESC;FMTTYPE=text/html:<p>Join the Student Bar Association for our annual Halloween bash on Friday, October 28th at The Ranch (710 W 6th St., Austin, Texas 78701)! There will be a costume contest, prizes, food, drinks, and a DJ! Complimentary buses will be available between 10pm and 2am to take you to and from the Law School and The Ranch. 21+ only. </p>
  <p>Tickets will go on sale Monday, October 25th in the Atrium!
  If you have any questions, email texas.sba@gmail.com.</p><p>If you need an accommodation to participate in this event, please contact the event
                                          event sponsor or the Texas Law Special Events Office at <a href="mailto:specialevents@law.utexas.edu">specialevents@law.utexas.edu</a> no later than seven business days prior to the event.</p>


URL:http://law.utexas.edu/calendar/2016/10/28/24444/
CLASS:PUBLIC
STATUS:CONFIRMED

END:VEVENT
END:VCALENDAR