BEGIN:VCALENDAR
VERSION:2.0
PRODID:-//UNIVERSITY OF TEXAS SCHOOL OF LAW//NONSGML Events Calendar v1.0//EN
X-WR-TIMEZONE:America/Chicago
BEGIN:VTIMEZONE
TZID:US/Central
X-LIC-LOCATION:America/Chicago
BEGIN:DAYLIGHT
TZOFFSETFROM:-0600
TZOFFSETTO:-0500
TZNAME:CDT
DTSTART:19700308T020000
RRULE:FREQ=YEARLY;BYMONTH=3;BYDAY=2SU
END:DAYLIGHT
BEGIN:STANDARD
TZOFFSETFROM:-0500
TZOFFSETTO:-0600
TZNAME:CST
DTSTART:19701101T020000
RRULE:FREQ=YEARLY;BYMONTH=11;BYDAY=1SU
END:STANDARD
END:VTIMEZONE
BEGIN:VEVENT
DTSTART;TZID=US/Central:20161028T120000
DTEND;VALUE=DATE-TIME;TZID=US/Central:20161028T140000

DTSTAMP:20260419T233000Z
CREATED:20161011T195800Z
LAST-MODIFIED:20161021T163800Z
UID:20161028T120000-26104@law.utexas.edu
SUMMARY:Criminal History as a Barrier to Housing
DESCRIPTION:<p>The second installment of the Opportunity Forum's 2016-17 Lunch Series, Hot Topics in Access to Opportunity, focuses on criminal history as a barrier to housing access. Nearly one in three U.S. adults holds a criminal record. Accessing safe and affordable housing is an urgent need for many of these individuals, but a criminal background presents immense barriers to securing housing in the Austin region. Join us on October 28th to learn about innovative work going on in New Orleans and elsewhere to reduce these barriers and to increase housing access for individuals with criminal histories. We will also learn about new federal fair housing guidance regarding landlords' use of criminal records to screen tenants. </p>\n\nIf you need an accommodation to participate in this event, please contact the event sponsor or the Texas Law Special Events Office at specialevents@law.utexas.edu no later than seven business days prior to the event.
X-ALT-DESC;FMTTYPE=text/html:<p>The second installment of the Opportunity Forum's 2016-17 Lunch Series, Hot Topics in Access to Opportunity, focuses on criminal history as a barrier to housing access. Nearly one in three U.S. adults holds a criminal record. Accessing safe and affordable housing is an urgent need for many of these individuals, but a criminal background presents immense barriers to securing housing in the Austin region. Join us on October 28th to learn about innovative work going on in New Orleans and elsewhere to reduce these barriers and to increase housing access for individuals with criminal histories. We will also learn about new federal fair housing guidance regarding landlords' use of criminal records to screen tenants. </p><p>If you need an accommodation to participate in this event, please contact the event
                                          event sponsor or the Texas Law Special Events Office at <a href="mailto:specialevents@law.utexas.edu">specialevents@law.utexas.edu</a> no later than seven business days prior to the event.</p>
CATEGORIES:Panel Discussion / Speaker Series
LOCATION:TNH 2.114 - Francis Auditorium
URL:http://law.utexas.edu/calendar/2016/10/28/26104/
CLASS:PUBLIC
STATUS:CONFIRMED

END:VEVENT
END:VCALENDAR