BEGIN:VCALENDAR
VERSION:2.0
PRODID:-//UNIVERSITY OF TEXAS SCHOOL OF LAW//NONSGML Events Calendar v1.0//EN
X-WR-TIMEZONE:America/Chicago
BEGIN:VTIMEZONE
TZID:US/Central
X-LIC-LOCATION:America/Chicago
BEGIN:DAYLIGHT
TZOFFSETFROM:-0600
TZOFFSETTO:-0500
TZNAME:CDT
DTSTART:19700308T020000
RRULE:FREQ=YEARLY;BYMONTH=3;BYDAY=2SU
END:DAYLIGHT
BEGIN:STANDARD
TZOFFSETFROM:-0500
TZOFFSETTO:-0600
TZNAME:CST
DTSTART:19701101T020000
RRULE:FREQ=YEARLY;BYMONTH=11;BYDAY=1SU
END:STANDARD
END:VTIMEZONE
BEGIN:VEVENT
DTSTART;TZID=US/Central:20161028T140000
DTEND;VALUE=DATE-TIME;TZID=US/Central:20161028T170000

DTSTAMP:20260420T131000Z
CREATED:20161018T164300Z
LAST-MODIFIED:20161024T161300Z
UID:20161028T140000-26305@law.utexas.edu
SUMMARY:Understanding Trauma &amp; Resiliency
DESCRIPTION:<p>A representative from the International Center for Mental Health and Human Rights will conduct a presentation and interactive workshop on Friday, October 28th, from 2:00pm - 5:00pm, on how to interact with clients that may have endured trauma.  </p>
  <p>The following topics will be discussed during the training:
  - Intro to Understanding the Neurobiology of Trauma (Trauma as 'Contagious')
  - Client Interviewing Techniques and Approaches
  - Interactive Exercises </p>
  <p>This will be the second year that ICMHHR has presented this training at UT Law.  Many students found the last year's training to be very beneficial when working with underserved communities.</p>
  <p>Free food provided!  Please RSVP to Courtney McGinn at courtneylmcginn@utexas.edu.
  </p>\n\nIf you need an accommodation to participate in this event, please contact the event sponsor or the Texas Law Special Events Office at specialevents@law.utexas.edu no later than seven business days prior to the event.
X-ALT-DESC;FMTTYPE=text/html:<p>A representative from the International Center for Mental Health and Human Rights will conduct a presentation and interactive workshop on Friday, October 28th, from 2:00pm - 5:00pm, on how to interact with clients that may have endured trauma.  </p>
  <p>The following topics will be discussed during the training:
  - Intro to Understanding the Neurobiology of Trauma (Trauma as 'Contagious')
  - Client Interviewing Techniques and Approaches
  - Interactive Exercises </p>
  <p>This will be the second year that ICMHHR has presented this training at UT Law.  Many students found the last year's training to be very beneficial when working with underserved communities.</p>
  <p>Free food provided!  Please RSVP to Courtney McGinn at courtneylmcginn@utexas.edu.
  </p><p>If you need an accommodation to participate in this event, please contact the event
                                          event sponsor or the Texas Law Special Events Office at <a href="mailto:specialevents@law.utexas.edu">specialevents@law.utexas.edu</a> no later than seven business days prior to the event.</p>
CATEGORIES:Workshop / Training Program
LOCATION:TNH 2.138 - Blanton Classroom
URL:http://law.utexas.edu/calendar/2016/10/28/26305/
CLASS:PUBLIC
STATUS:CONFIRMED

END:VEVENT
END:VCALENDAR