BEGIN:VCALENDAR
VERSION:2.0
PRODID:-//UNIVERSITY OF TEXAS SCHOOL OF LAW//NONSGML Events Calendar v1.0//EN
X-WR-TIMEZONE:America/Chicago
BEGIN:VTIMEZONE
TZID:US/Central
X-LIC-LOCATION:America/Chicago
BEGIN:DAYLIGHT
TZOFFSETFROM:-0600
TZOFFSETTO:-0500
TZNAME:CDT
DTSTART:19700308T020000
RRULE:FREQ=YEARLY;BYMONTH=3;BYDAY=2SU
END:DAYLIGHT
BEGIN:STANDARD
TZOFFSETFROM:-0500
TZOFFSETTO:-0600
TZNAME:CST
DTSTART:19701101T020000
RRULE:FREQ=YEARLY;BYMONTH=11;BYDAY=1SU
END:STANDARD
END:VTIMEZONE
BEGIN:VEVENT
DTSTART;TZID=US/Central:20161101T114500
DTEND;VALUE=DATE-TIME;TZID=US/Central:20161101T134500

DTSTAMP:20260423T064100Z
CREATED:20160818T183300Z
LAST-MODIFIED:20161024T165100Z
UID:20161101T114500-23824@law.utexas.edu
SUMMARY:Lives in the Law: Rebecca Robertson
DESCRIPTION:<p>11:45 a.m.-12:45 p.m. in the Eidman Courtroom and 12:45-1:45 p.m. in the Jury Room. Lunch served at 12:45. </p>
  <p>During the first hour, which is free and open to the public, Rebecca Robertson will speak on the ongoing struggle for transgender equality in Texas. During the second hour she will meet with students more informally over lunch to discuss her life and career. </p>
  <p>RSVP by Monday, October 31, on <a href="https://law-utexas-csm.symplicity.com/students/"> Symplicity</a> by selecting the "Events" tab</p>
  <p>The “Lives in the Law” speaker series focuses on the work and lives of lawyers who strive to improve the lives of others through litigation, advocacy and public service. </p>
  <p>Hosted by Career Services and the William Wayne Justice Center for Public Interest Law. 
  </p>
  <p>More about Rebecca Robertson:</p>
  <p>As the Legal &amp; Policy Director of the ACLU of Texas, Rebecca L. Robertson leads the ACLU’s legal, legislative, and field teams in Texas and defends the liberty of ACLU clients in high impact litigation in state and federal courts around Texas. She joined the ACLU after a 15-year career as a commercial litigator at Baker Botts, LLP, where she served as co-chair of the firm’s securities litigation practice group. While at Baker Botts, she led the amicus team working on the landmark civil rights case challenging the Texas sodomy law, Texas v. Lawrence. She is a graduate of the Harvard Law School, where she served as Executive Editor of the Harvard Law Review, and Rice University, where she received her B.A. magna cum laude.</p>
  <p> Rebecca Robertson will be available for one-on-one, 15-minute meetings from 10:00-11:00 a.m. in the Career Services Interview Suite (TNH 3.122). To sign up for an individual meeting, please email cso@law.utexas.edu or stop by the CSO in TNH 3.130.  </p>\n\nIf you need an accommodation to participate in this event, please contact the event sponsor or the Texas Law Special Events Office at specialevents@law.utexas.edu no later than seven business days prior to the event.
X-ALT-DESC;FMTTYPE=text/html:<p>11:45 a.m.-12:45 p.m. in the Eidman Courtroom and 12:45-1:45 p.m. in the Jury Room. Lunch served at 12:45. </p>
  <p>During the first hour, which is free and open to the public, Rebecca Robertson will speak on the ongoing struggle for transgender equality in Texas. During the second hour she will meet with students more informally over lunch to discuss her life and career. </p>
  <p>RSVP by Monday, October 31, on <a href="https://law-utexas-csm.symplicity.com/students/"> Symplicity</a> by selecting the "Events" tab</p>
  <p>The “Lives in the Law” speaker series focuses on the work and lives of lawyers who strive to improve the lives of others through litigation, advocacy and public service. </p>
  <p>Hosted by Career Services and the William Wayne Justice Center for Public Interest Law. 
  </p>
  <p>More about Rebecca Robertson:</p>
  <p>As the Legal &amp; Policy Director of the ACLU of Texas, Rebecca L. Robertson leads the ACLU’s legal, legislative, and field teams in Texas and defends the liberty of ACLU clients in high impact litigation in state and federal courts around Texas. She joined the ACLU after a 15-year career as a commercial litigator at Baker Botts, LLP, where she served as co-chair of the firm’s securities litigation practice group. While at Baker Botts, she led the amicus team working on the landmark civil rights case challenging the Texas sodomy law, Texas v. Lawrence. She is a graduate of the Harvard Law School, where she served as Executive Editor of the Harvard Law Review, and Rice University, where she received her B.A. magna cum laude.</p>
  <p> Rebecca Robertson will be available for one-on-one, 15-minute meetings from 10:00-11:00 a.m. in the Career Services Interview Suite (TNH 3.122). To sign up for an individual meeting, please email cso@law.utexas.edu or stop by the CSO in TNH 3.130.  </p><p>If you need an accommodation to participate in this event, please contact the event
                                          event sponsor or the Texas Law Special Events Office at <a href="mailto:specialevents@law.utexas.edu">specialevents@law.utexas.edu</a> no later than seven business days prior to the event.</p>
CATEGORIES:Workshop / Training Program
LOCATION:CCJ 2.306 - Eidman Courtroom
URL:http://law.utexas.edu/calendar/2016/11/01/23824/
CLASS:PUBLIC
STATUS:CONFIRMED
COMMENT:Please contact Nicole Simmons, Director of Public Service Programs, at 512-232-1160, or <a href="mailto:NSimmons@law.utexas.edu">NSimmons@law.utexas.edu</a>.
END:VEVENT
END:VCALENDAR