BEGIN:VCALENDAR
VERSION:2.0
PRODID:-//UNIVERSITY OF TEXAS SCHOOL OF LAW//NONSGML Events Calendar v1.0//EN
X-WR-TIMEZONE:America/Chicago
BEGIN:VTIMEZONE
TZID:US/Central
X-LIC-LOCATION:America/Chicago
BEGIN:DAYLIGHT
TZOFFSETFROM:-0600
TZOFFSETTO:-0500
TZNAME:CDT
DTSTART:19700308T020000
RRULE:FREQ=YEARLY;BYMONTH=3;BYDAY=2SU
END:DAYLIGHT
BEGIN:STANDARD
TZOFFSETFROM:-0500
TZOFFSETTO:-0600
TZNAME:CST
DTSTART:19701101T020000
RRULE:FREQ=YEARLY;BYMONTH=11;BYDAY=1SU
END:STANDARD
END:VTIMEZONE
BEGIN:VEVENT
DTSTART;TZID=US/Central:20161114T084500
DTEND;VALUE=DATE-TIME;TZID=US/Central:20161114T094500

DTSTAMP:20260419T232900Z
CREATED:20160907T191400Z
LAST-MODIFIED:20161104T162000Z
UID:20161114T084500-24810@law.utexas.edu
SUMMARY:Townes Hall Morning Coffee
DESCRIPTION:<p>On Monday, September 12, the Texas Law Alumni Association is pleased to announce that it will kick off its Fall 2016 Townes Hall Morning Coffee for all students every Monday morning. Please bring your favorite travel mug from home (we are “going green,” so no paper products will be provided) and enjoy FREE coffee every Monday morning to start off your week on behalf of the Alumni Association. Coffee will be located at one, large station located near the 1L Classrooms (by TNH 2.140, TNH 2.139, etc.) beginning at 8:45 am. until it's gone, so get there early!</p>\n\nIf you need an accommodation to participate in this event, please contact the event sponsor or the Texas Law Special Events Office at specialevents@law.utexas.edu no later than seven business days prior to the event.
X-ALT-DESC;FMTTYPE=text/html:<p>On Monday, September 12, the Texas Law Alumni Association is pleased to announce that it will kick off its Fall 2016 Townes Hall Morning Coffee for all students every Monday morning. Please bring your favorite travel mug from home (we are “going green,” so no paper products will be provided) and enjoy FREE coffee every Monday morning to start off your week on behalf of the Alumni Association. Coffee will be located at one, large station located near the 1L Classrooms (by TNH 2.140, TNH 2.139, etc.) beginning at 8:45 am. until it's gone, so get there early!</p><p>If you need an accommodation to participate in this event, please contact the event
                                          event sponsor or the Texas Law Special Events Office at <a href="mailto:specialevents@law.utexas.edu">specialevents@law.utexas.edu</a> no later than seven business days prior to the event.</p>


URL:http://law.utexas.edu/calendar/2016/11/14/24810/
CLASS:PUBLIC
STATUS:CONFIRMED

END:VEVENT
END:VCALENDAR