BEGIN:VCALENDAR
VERSION:2.0
PRODID:-//UNIVERSITY OF TEXAS SCHOOL OF LAW//NONSGML Events Calendar v1.0//EN
X-WR-TIMEZONE:America/Chicago
BEGIN:VTIMEZONE
TZID:US/Central
X-LIC-LOCATION:America/Chicago
BEGIN:DAYLIGHT
TZOFFSETFROM:-0600
TZOFFSETTO:-0500
TZNAME:CDT
DTSTART:19700308T020000
RRULE:FREQ=YEARLY;BYMONTH=3;BYDAY=2SU
END:DAYLIGHT
BEGIN:STANDARD
TZOFFSETFROM:-0500
TZOFFSETTO:-0600
TZNAME:CST
DTSTART:19701101T020000
RRULE:FREQ=YEARLY;BYMONTH=11;BYDAY=1SU
END:STANDARD
END:VTIMEZONE
BEGIN:VEVENT
DTSTART;TZID=US/Central:20161117T114500
DTEND;VALUE=DATE-TIME;TZID=US/Central:20161117T124500

DTSTAMP:20260419T233000Z
CREATED:20161027T152600Z
LAST-MODIFIED:20161107T160600Z
UID:20161117T114500-26564@law.utexas.edu
SUMMARY:Skadden 1L Scholars Program
DESCRIPTION:<p>Skadden embraces the idea that inclusion and a wide spectrum of diversity only makes the firm better. Through their Skadden 1L Scholars Program, the firm is seeking to attract the best and the brightest legal talent, including candidates whose life experiences, demonstrated interests and achievements can contribute to the firm’s commitment to diversity, inclusion and excellence. </p>
  <p>The Skadden 1L Scholars Program provides an 11-week ultimate summer experience comprised of both law firm and corporate in-house exposure for students with a demonstrated commitment to diversity and inclusion. The paid internship consists of seven weeks at Skadden, working on both client and pro bono related matters, followed by four weeks at a firm client. </p>
  <p>RSVP by Wednesday, November 16, on <a href="https://law-utexas-csm.symplicity.com/students/"> Symplicity</a> by selecting the "Events" tab.</p>\n\nIf you need an accommodation to participate in this event, please contact the event sponsor or the Texas Law Special Events Office at specialevents@law.utexas.edu no later than seven business days prior to the event.
X-ALT-DESC;FMTTYPE=text/html:<p>Skadden embraces the idea that inclusion and a wide spectrum of diversity only makes the firm better. Through their Skadden 1L Scholars Program, the firm is seeking to attract the best and the brightest legal talent, including candidates whose life experiences, demonstrated interests and achievements can contribute to the firm’s commitment to diversity, inclusion and excellence. </p>
  <p>The Skadden 1L Scholars Program provides an 11-week ultimate summer experience comprised of both law firm and corporate in-house exposure for students with a demonstrated commitment to diversity and inclusion. The paid internship consists of seven weeks at Skadden, working on both client and pro bono related matters, followed by four weeks at a firm client. </p>
  <p>RSVP by Wednesday, November 16, on <a href="https://law-utexas-csm.symplicity.com/students/"> Symplicity</a> by selecting the "Events" tab.</p><p>If you need an accommodation to participate in this event, please contact the event
                                          event sponsor or the Texas Law Special Events Office at <a href="mailto:specialevents@law.utexas.edu">specialevents@law.utexas.edu</a> no later than seven business days prior to the event.</p>
CATEGORIES:Reception
LOCATION:TNH 2.123 - Beck Classroom
URL:http://law.utexas.edu/calendar/2016/11/17/26564/
CLASS:PUBLIC
STATUS:CONFIRMED
COMMENT:Please contact Deb Freeman, Communication Director, at 512-232-1160, or <a href="mailto:dfreeman@law.utexas.edu">DFreeman@law.utexas.edu</a>.
END:VEVENT
END:VCALENDAR