BEGIN:VCALENDAR
VERSION:2.0
PRODID:-//UNIVERSITY OF TEXAS SCHOOL OF LAW//NONSGML Events Calendar v1.0//EN
X-WR-TIMEZONE:America/Chicago
BEGIN:VTIMEZONE
TZID:US/Central
X-LIC-LOCATION:America/Chicago
BEGIN:DAYLIGHT
TZOFFSETFROM:-0600
TZOFFSETTO:-0500
TZNAME:CDT
DTSTART:19700308T020000
RRULE:FREQ=YEARLY;BYMONTH=3;BYDAY=2SU
END:DAYLIGHT
BEGIN:STANDARD
TZOFFSETFROM:-0500
TZOFFSETTO:-0600
TZNAME:CST
DTSTART:19701101T020000
RRULE:FREQ=YEARLY;BYMONTH=11;BYDAY=1SU
END:STANDARD
END:VTIMEZONE
BEGIN:VEVENT
DTSTART;TZID=US/Central:20161117T114500
DTEND;VALUE=DATE-TIME;TZID=US/Central:20161117T124500

DTSTAMP:20260419T232900Z
CREATED:20161108T005500Z
LAST-MODIFIED:20161108T005500Z
UID:20161117T114500-26884@law.utexas.edu
SUMMARY:Summer Public Interest Employer Panel
DESCRIPTION:<p>The Public Interest Law Association and the Career Services Office invite you to a lunch panel about summer opportunities in public interest work. The panel will feature attorneys from Texas Rio Grande Legal Aid, the Texas Civil Rights Project, RAICES, and Texas Appleseed. Attorneys will discuss the details of their summer internship programs and what they look for in summer applicants. Lunch will be provided. </p>\n\nIf you need an accommodation to participate in this event, please contact the event sponsor or the Texas Law Special Events Office at specialevents@law.utexas.edu no later than seven business days prior to the event.
X-ALT-DESC;FMTTYPE=text/html:<p>The Public Interest Law Association and the Career Services Office invite you to a lunch panel about summer opportunities in public interest work. The panel will feature attorneys from Texas Rio Grande Legal Aid, the Texas Civil Rights Project, RAICES, and Texas Appleseed. Attorneys will discuss the details of their summer internship programs and what they look for in summer applicants. Lunch will be provided. </p><p>If you need an accommodation to participate in this event, please contact the event
                                          event sponsor or the Texas Law Special Events Office at <a href="mailto:specialevents@law.utexas.edu">specialevents@law.utexas.edu</a> no later than seven business days prior to the event.</p>

LOCATION:TNH 3.127 - Roberts Classroom
URL:http://law.utexas.edu/calendar/2016/11/17/26884/
CLASS:PUBLIC
STATUS:CONFIRMED

END:VEVENT
END:VCALENDAR