BEGIN:VCALENDAR
VERSION:2.0
PRODID:-//UNIVERSITY OF TEXAS SCHOOL OF LAW//NONSGML Events Calendar v1.0//EN
X-WR-TIMEZONE:America/Chicago
BEGIN:VTIMEZONE
TZID:US/Central
X-LIC-LOCATION:America/Chicago
BEGIN:DAYLIGHT
TZOFFSETFROM:-0600
TZOFFSETTO:-0500
TZNAME:CDT
DTSTART:19700308T020000
RRULE:FREQ=YEARLY;BYMONTH=3;BYDAY=2SU
END:DAYLIGHT
BEGIN:STANDARD
TZOFFSETFROM:-0500
TZOFFSETTO:-0600
TZNAME:CST
DTSTART:19701101T020000
RRULE:FREQ=YEARLY;BYMONTH=11;BYDAY=1SU
END:STANDARD
END:VTIMEZONE
BEGIN:VEVENT
DTSTART;TZID=US/Central:20161117T114500
DTEND;VALUE=DATE-TIME;TZID=US/Central:20161117T130000

DTSTAMP:20260419T232900Z
CREATED:20161115T170600Z
LAST-MODIFIED:20161115T170600Z
UID:20161117T114500-27006@law.utexas.edu
SUMMARY:Progressive Legal Values Post-Election
DESCRIPTION:<p>Join Texas Law ACS, OUTLaw in Austin, TX, and If/When/How Texas Law for a group discussion of the presidential election and the legal fights to come over the next four years. </p>
  <p>Professors Ranjana Natarajan (Civil Rights Clinic), Elissa Steglich (Immigration Clinic), Kelly Haragan (Environmental Clinic) and others will take part in a student-faculty forum about our reactions, expectations, fears, and plans for the upcoming presidential administration.</p>
  <p>Lunch provided.</p>\n\nIf you need an accommodation to participate in this event, please contact the event sponsor or the Texas Law Special Events Office at specialevents@law.utexas.edu no later than seven business days prior to the event.
X-ALT-DESC;FMTTYPE=text/html:<p>Join Texas Law ACS, OUTLaw in Austin, TX, and If/When/How Texas Law for a group discussion of the presidential election and the legal fights to come over the next four years. </p>
  <p>Professors Ranjana Natarajan (Civil Rights Clinic), Elissa Steglich (Immigration Clinic), Kelly Haragan (Environmental Clinic) and others will take part in a student-faculty forum about our reactions, expectations, fears, and plans for the upcoming presidential administration.</p>
  <p>Lunch provided.</p><p>If you need an accommodation to participate in this event, please contact the event
                                          event sponsor or the Texas Law Special Events Office at <a href="mailto:specialevents@law.utexas.edu">specialevents@law.utexas.edu</a> no later than seven business days prior to the event.</p>
CATEGORIES:Meeting
LOCATION:TNH 2.137 - Gayle Classroom
URL:http://law.utexas.edu/calendar/2016/11/17/27006/
CLASS:PUBLIC
STATUS:CONFIRMED
COMMENT:utacs.president@gmail.com
END:VEVENT
END:VCALENDAR